BEGIN:VCALENDAR
VERSION:2.0
PRODID:-//Van Cortlandt Park Alliance - ECPv6.15.20//NONSGML v1.0//EN
CALSCALE:GREGORIAN
METHOD:PUBLISH
X-ORIGINAL-URL:https://vancortlandt.org
X-WR-CALDESC:Events for Van Cortlandt Park Alliance
REFRESH-INTERVAL;VALUE=DURATION:PT1H
X-Robots-Tag:noindex
X-PUBLISHED-TTL:PT1H
BEGIN:VTIMEZONE
TZID:America/New_York
BEGIN:DAYLIGHT
TZOFFSETFROM:-0500
TZOFFSETTO:-0400
TZNAME:EDT
DTSTART:20250309T070000
END:DAYLIGHT
BEGIN:STANDARD
TZOFFSETFROM:-0400
TZOFFSETTO:-0500
TZNAME:EST
DTSTART:20251102T060000
END:STANDARD
BEGIN:DAYLIGHT
TZOFFSETFROM:-0500
TZOFFSETTO:-0400
TZNAME:EDT
DTSTART:20260308T070000
END:DAYLIGHT
BEGIN:STANDARD
TZOFFSETFROM:-0400
TZOFFSETTO:-0500
TZNAME:EST
DTSTART:20261101T060000
END:STANDARD
BEGIN:DAYLIGHT
TZOFFSETFROM:-0500
TZOFFSETTO:-0400
TZNAME:EDT
DTSTART:20270314T070000
END:DAYLIGHT
BEGIN:STANDARD
TZOFFSETFROM:-0400
TZOFFSETTO:-0500
TZNAME:EST
DTSTART:20271107T060000
END:STANDARD
END:VTIMEZONE
BEGIN:VEVENT
DTSTART;VALUE=DATE:20260511
DTEND;VALUE=DATE:20260512
DTSTAMP:20260424T025345
CREATED:20260417T113904Z
LAST-MODIFIED:20260417T113904Z
UID:10002407-1778457600-1778543999@vancortlandt.org
SUMMARY:Register Now for 26.2 in '26
DESCRIPTION:Hike (or Run or Walk) 26.2 miles in Van Cortlandt Park in 2026! \n\n\n\n\nThe Challenge: \nHike 26.2 miles in Van Cortlandt Park anytime during 2026\, post on social media (@vcpalliance) from the park to spread the word\, and wear your 26.2 in ‘26 Finisher’s Pin with pride once you attain your goal (because you earned it!). \nVCPA will provide you with route options within Van Cortlandt Park\, the third largest park in NYC\, but you pick your method (hike\, run\, stroll\, skip) and you pick when (as long as you complete it all by December 31\, 2026). Van Cortlandt Park\, located in the Northwest Bronx\, has over 20 miles of trails of various levels of difficulty. If any of the suggested trails are too strenuous\, you can substitute as you like. The specific trails do not matter as much as hitting the goal of 26.2 miles. \nRegistration: \nRegister now to receive the list of 9 different trails you can hike and some start-up swag! More details below. \nRegistration closes October 15\, 2026 but the sooner you register\, the more perks you will receive\, and the more time you will have to meet the challenge. \nCost/Proceeds: \nFor only $52 per adult ($26 for those under 18)\, you can participate\, receive swag\, and make a difference in Van Cortlandt Park. You also gain access to exclusive hikes in the park\, led by fabulous (and knowledgeable) VCPA staff. All proceeds support Van Cortlandt Park Alliance’s environmental education\, internship and community stewardship programs. \nThe Swag: \nEvery participant gets a VCPA bag\, VCPA die-cut sticker\, VCP map\, and invitations to exclusive 26.2 in ‘26 guided hikes (optional but will count towards your 26.2 miles). After you complete your hikes\, you will receive an exclusive 26.2 in ‘26 Finishers Pin and bragging rights! Pins will be mailed starting in Fall of 2026. \nRegister Now.
URL:https://vancortlandt.org/event/register-now-for-26-2-in-26/2026-05-11/
CATEGORIES:Hikes
ATTACH;FMTTYPE=image/jpeg:https://vancortlandt.org/wp-content/uploads/2026/04/Untitled-design-2.jpg
END:VEVENT
BEGIN:VEVENT
DTSTART;TZID=America/New_York:20260511T093000
DTEND;TZID=America/New_York:20260511T103000
DTSTAMP:20260424T025345
CREATED:20260407T193218Z
LAST-MODIFIED:20260407T193508Z
UID:10002380-1778491800-1778495400@vancortlandt.org
SUMMARY:Van Cortlandt Nature Group Walk
DESCRIPTION:Take a slow walk in the park and learn about local flora and fauna with naturalist Debbi Dolan. \n\n\n\n\nSpring is off to a glorious beginning. Wildflowers are emerging\, and the warblers are coming in! Tree swallows are visiting the Vault Hill and Tibbett Meadows. Tulip trees and crabapples will be in flower in May along with cherry trees\, dogwoods\, redbud trees. The dawn chorus is well underway\, and birds are busy collecting nesting material. \nRSVP Now. \nTaking precautions against tick bite is recommended – socks over pants\, and you may want to use insect repellent. Check your body for ticks after being outdoors. \nWalk meets in the parking lot of the Riverdale Stables.
URL:https://vancortlandt.org/event/van-cortlandt-nature-group-walk-9/
CATEGORIES:Hikes
ATTACH;FMTTYPE=image/jpeg:https://vancortlandt.org/wp-content/uploads/2026/04/Untitled-840-x-560-px.jpg
END:VEVENT
BEGIN:VEVENT
DTSTART;VALUE=DATE:20260512
DTEND;VALUE=DATE:20260513
DTSTAMP:20260424T025345
CREATED:20260417T113904Z
LAST-MODIFIED:20260417T113904Z
UID:10002408-1778544000-1778630399@vancortlandt.org
SUMMARY:Register Now for 26.2 in '26
DESCRIPTION:Hike (or Run or Walk) 26.2 miles in Van Cortlandt Park in 2026! \n\n\n\n\nThe Challenge: \nHike 26.2 miles in Van Cortlandt Park anytime during 2026\, post on social media (@vcpalliance) from the park to spread the word\, and wear your 26.2 in ‘26 Finisher’s Pin with pride once you attain your goal (because you earned it!). \nVCPA will provide you with route options within Van Cortlandt Park\, the third largest park in NYC\, but you pick your method (hike\, run\, stroll\, skip) and you pick when (as long as you complete it all by December 31\, 2026). Van Cortlandt Park\, located in the Northwest Bronx\, has over 20 miles of trails of various levels of difficulty. If any of the suggested trails are too strenuous\, you can substitute as you like. The specific trails do not matter as much as hitting the goal of 26.2 miles. \nRegistration: \nRegister now to receive the list of 9 different trails you can hike and some start-up swag! More details below. \nRegistration closes October 15\, 2026 but the sooner you register\, the more perks you will receive\, and the more time you will have to meet the challenge. \nCost/Proceeds: \nFor only $52 per adult ($26 for those under 18)\, you can participate\, receive swag\, and make a difference in Van Cortlandt Park. You also gain access to exclusive hikes in the park\, led by fabulous (and knowledgeable) VCPA staff. All proceeds support Van Cortlandt Park Alliance’s environmental education\, internship and community stewardship programs. \nThe Swag: \nEvery participant gets a VCPA bag\, VCPA die-cut sticker\, VCP map\, and invitations to exclusive 26.2 in ‘26 guided hikes (optional but will count towards your 26.2 miles). After you complete your hikes\, you will receive an exclusive 26.2 in ‘26 Finishers Pin and bragging rights! Pins will be mailed starting in Fall of 2026. \nRegister Now.
URL:https://vancortlandt.org/event/register-now-for-26-2-in-26/2026-05-12/
CATEGORIES:Hikes
ATTACH;FMTTYPE=image/jpeg:https://vancortlandt.org/wp-content/uploads/2026/04/Untitled-design-2.jpg
END:VEVENT
BEGIN:VEVENT
DTSTART;VALUE=DATE:20260513
DTEND;VALUE=DATE:20260514
DTSTAMP:20260424T025345
CREATED:20260417T113904Z
LAST-MODIFIED:20260417T113904Z
UID:10002409-1778630400-1778716799@vancortlandt.org
SUMMARY:Register Now for 26.2 in '26
DESCRIPTION:Hike (or Run or Walk) 26.2 miles in Van Cortlandt Park in 2026! \n\n\n\n\nThe Challenge: \nHike 26.2 miles in Van Cortlandt Park anytime during 2026\, post on social media (@vcpalliance) from the park to spread the word\, and wear your 26.2 in ‘26 Finisher’s Pin with pride once you attain your goal (because you earned it!). \nVCPA will provide you with route options within Van Cortlandt Park\, the third largest park in NYC\, but you pick your method (hike\, run\, stroll\, skip) and you pick when (as long as you complete it all by December 31\, 2026). Van Cortlandt Park\, located in the Northwest Bronx\, has over 20 miles of trails of various levels of difficulty. If any of the suggested trails are too strenuous\, you can substitute as you like. The specific trails do not matter as much as hitting the goal of 26.2 miles. \nRegistration: \nRegister now to receive the list of 9 different trails you can hike and some start-up swag! More details below. \nRegistration closes October 15\, 2026 but the sooner you register\, the more perks you will receive\, and the more time you will have to meet the challenge. \nCost/Proceeds: \nFor only $52 per adult ($26 for those under 18)\, you can participate\, receive swag\, and make a difference in Van Cortlandt Park. You also gain access to exclusive hikes in the park\, led by fabulous (and knowledgeable) VCPA staff. All proceeds support Van Cortlandt Park Alliance’s environmental education\, internship and community stewardship programs. \nThe Swag: \nEvery participant gets a VCPA bag\, VCPA die-cut sticker\, VCP map\, and invitations to exclusive 26.2 in ‘26 guided hikes (optional but will count towards your 26.2 miles). After you complete your hikes\, you will receive an exclusive 26.2 in ‘26 Finishers Pin and bragging rights! Pins will be mailed starting in Fall of 2026. \nRegister Now.
URL:https://vancortlandt.org/event/register-now-for-26-2-in-26/2026-05-13/
CATEGORIES:Hikes
ATTACH;FMTTYPE=image/jpeg:https://vancortlandt.org/wp-content/uploads/2026/04/Untitled-design-2.jpg
END:VEVENT
BEGIN:VEVENT
DTSTART;VALUE=DATE:20260514
DTEND;VALUE=DATE:20260515
DTSTAMP:20260424T025345
CREATED:20260417T113904Z
LAST-MODIFIED:20260417T113904Z
UID:10002410-1778716800-1778803199@vancortlandt.org
SUMMARY:Register Now for 26.2 in '26
DESCRIPTION:Hike (or Run or Walk) 26.2 miles in Van Cortlandt Park in 2026! \n\n\n\n\nThe Challenge: \nHike 26.2 miles in Van Cortlandt Park anytime during 2026\, post on social media (@vcpalliance) from the park to spread the word\, and wear your 26.2 in ‘26 Finisher’s Pin with pride once you attain your goal (because you earned it!). \nVCPA will provide you with route options within Van Cortlandt Park\, the third largest park in NYC\, but you pick your method (hike\, run\, stroll\, skip) and you pick when (as long as you complete it all by December 31\, 2026). Van Cortlandt Park\, located in the Northwest Bronx\, has over 20 miles of trails of various levels of difficulty. If any of the suggested trails are too strenuous\, you can substitute as you like. The specific trails do not matter as much as hitting the goal of 26.2 miles. \nRegistration: \nRegister now to receive the list of 9 different trails you can hike and some start-up swag! More details below. \nRegistration closes October 15\, 2026 but the sooner you register\, the more perks you will receive\, and the more time you will have to meet the challenge. \nCost/Proceeds: \nFor only $52 per adult ($26 for those under 18)\, you can participate\, receive swag\, and make a difference in Van Cortlandt Park. You also gain access to exclusive hikes in the park\, led by fabulous (and knowledgeable) VCPA staff. All proceeds support Van Cortlandt Park Alliance’s environmental education\, internship and community stewardship programs. \nThe Swag: \nEvery participant gets a VCPA bag\, VCPA die-cut sticker\, VCP map\, and invitations to exclusive 26.2 in ‘26 guided hikes (optional but will count towards your 26.2 miles). After you complete your hikes\, you will receive an exclusive 26.2 in ‘26 Finishers Pin and bragging rights! Pins will be mailed starting in Fall of 2026. \nRegister Now.
URL:https://vancortlandt.org/event/register-now-for-26-2-in-26/2026-05-14/
CATEGORIES:Hikes
ATTACH;FMTTYPE=image/jpeg:https://vancortlandt.org/wp-content/uploads/2026/04/Untitled-design-2.jpg
END:VEVENT
BEGIN:VEVENT
DTSTART;TZID=America/New_York:20260514T090000
DTEND;TZID=America/New_York:20260514T120000
DTSTAMP:20260424T025345
CREATED:20260422T234626Z
LAST-MODIFIED:20260422T234626Z
UID:10002566-1778749200-1778760000@vancortlandt.org
SUMMARY:Trail Work Thursdays
DESCRIPTION:Be a part of the community effort to maintain the trails in Van Cortlandt Park. \n\n\n\n\nUpcoming Activities Include: \n\nClearing debris and overgrowth\nEnsuring trail safety and accessibility\nMaintenance on structures that mitigate erosion and improve access.\n\nWhat to Bring: \n\nComfortable\, weather-appropriate clothing\nClosed-toed shoes\nWater and a snack\n\nMeeting Details: \nLocation: VCPA Learning Garden \nTime: 9 am sharp; work begins at 9:15 am \nRSVP Now
URL:https://vancortlandt.org/event/trail-work-thursdays-7/2026-05-14/
CATEGORIES:Volunteer
ATTACH;FMTTYPE=image/jpeg:https://vancortlandt.org/wp-content/uploads/2025/07/Trail-Thursdays-photo.jpg
END:VEVENT
BEGIN:VEVENT
DTSTART;TZID=America/New_York:20260514T170000
DTEND;TZID=America/New_York:20260514T180000
DTSTAMP:20260424T025345
CREATED:20260226T210516Z
LAST-MODIFIED:20260226T210738Z
UID:10002178-1778778000-1778781600@vancortlandt.org
SUMMARY:Forests Uptown Series
DESCRIPTION:Thursdays at 5pm\nJoin Riverside Park Conservancy and Van Cortlandt Park Alliance for our hybrid lecture series on our urban forest. All talks are free & open to the public\, including time for a Q&A & discussion.\nMarch 12: Winter Tree Identification\nMarch 19: Forest Assessments in NYC\nMarch 26: History of NYC Wildfires\nRSVP Now
URL:https://vancortlandt.org/event/forests-uptown-series/2026-05-14/
CATEGORIES:Community
ATTACH;FMTTYPE=image/jpeg:https://vancortlandt.org/wp-content/uploads/2026/02/Uptown-Forest-Series.jpg
END:VEVENT
BEGIN:VEVENT
DTSTART;VALUE=DATE:20260515
DTEND;VALUE=DATE:20260516
DTSTAMP:20260424T025345
CREATED:20260417T113904Z
LAST-MODIFIED:20260417T113904Z
UID:10002411-1778803200-1778889599@vancortlandt.org
SUMMARY:Register Now for 26.2 in '26
DESCRIPTION:Hike (or Run or Walk) 26.2 miles in Van Cortlandt Park in 2026! \n\n\n\n\nThe Challenge: \nHike 26.2 miles in Van Cortlandt Park anytime during 2026\, post on social media (@vcpalliance) from the park to spread the word\, and wear your 26.2 in ‘26 Finisher’s Pin with pride once you attain your goal (because you earned it!). \nVCPA will provide you with route options within Van Cortlandt Park\, the third largest park in NYC\, but you pick your method (hike\, run\, stroll\, skip) and you pick when (as long as you complete it all by December 31\, 2026). Van Cortlandt Park\, located in the Northwest Bronx\, has over 20 miles of trails of various levels of difficulty. If any of the suggested trails are too strenuous\, you can substitute as you like. The specific trails do not matter as much as hitting the goal of 26.2 miles. \nRegistration: \nRegister now to receive the list of 9 different trails you can hike and some start-up swag! More details below. \nRegistration closes October 15\, 2026 but the sooner you register\, the more perks you will receive\, and the more time you will have to meet the challenge. \nCost/Proceeds: \nFor only $52 per adult ($26 for those under 18)\, you can participate\, receive swag\, and make a difference in Van Cortlandt Park. You also gain access to exclusive hikes in the park\, led by fabulous (and knowledgeable) VCPA staff. All proceeds support Van Cortlandt Park Alliance’s environmental education\, internship and community stewardship programs. \nThe Swag: \nEvery participant gets a VCPA bag\, VCPA die-cut sticker\, VCP map\, and invitations to exclusive 26.2 in ‘26 guided hikes (optional but will count towards your 26.2 miles). After you complete your hikes\, you will receive an exclusive 26.2 in ‘26 Finishers Pin and bragging rights! Pins will be mailed starting in Fall of 2026. \nRegister Now.
URL:https://vancortlandt.org/event/register-now-for-26-2-in-26/2026-05-15/
CATEGORIES:Hikes
ATTACH;FMTTYPE=image/jpeg:https://vancortlandt.org/wp-content/uploads/2026/04/Untitled-design-2.jpg
END:VEVENT
BEGIN:VEVENT
DTSTART;VALUE=DATE:20260516
DTEND;VALUE=DATE:20260517
DTSTAMP:20260424T025345
CREATED:20260417T113904Z
LAST-MODIFIED:20260417T113904Z
UID:10002412-1778889600-1778975999@vancortlandt.org
SUMMARY:Register Now for 26.2 in '26
DESCRIPTION:Hike (or Run or Walk) 26.2 miles in Van Cortlandt Park in 2026! \n\n\n\n\nThe Challenge: \nHike 26.2 miles in Van Cortlandt Park anytime during 2026\, post on social media (@vcpalliance) from the park to spread the word\, and wear your 26.2 in ‘26 Finisher’s Pin with pride once you attain your goal (because you earned it!). \nVCPA will provide you with route options within Van Cortlandt Park\, the third largest park in NYC\, but you pick your method (hike\, run\, stroll\, skip) and you pick when (as long as you complete it all by December 31\, 2026). Van Cortlandt Park\, located in the Northwest Bronx\, has over 20 miles of trails of various levels of difficulty. If any of the suggested trails are too strenuous\, you can substitute as you like. The specific trails do not matter as much as hitting the goal of 26.2 miles. \nRegistration: \nRegister now to receive the list of 9 different trails you can hike and some start-up swag! More details below. \nRegistration closes October 15\, 2026 but the sooner you register\, the more perks you will receive\, and the more time you will have to meet the challenge. \nCost/Proceeds: \nFor only $52 per adult ($26 for those under 18)\, you can participate\, receive swag\, and make a difference in Van Cortlandt Park. You also gain access to exclusive hikes in the park\, led by fabulous (and knowledgeable) VCPA staff. All proceeds support Van Cortlandt Park Alliance’s environmental education\, internship and community stewardship programs. \nThe Swag: \nEvery participant gets a VCPA bag\, VCPA die-cut sticker\, VCP map\, and invitations to exclusive 26.2 in ‘26 guided hikes (optional but will count towards your 26.2 miles). After you complete your hikes\, you will receive an exclusive 26.2 in ‘26 Finishers Pin and bragging rights! Pins will be mailed starting in Fall of 2026. \nRegister Now.
URL:https://vancortlandt.org/event/register-now-for-26-2-in-26/2026-05-16/
CATEGORIES:Hikes
ATTACH;FMTTYPE=image/jpeg:https://vancortlandt.org/wp-content/uploads/2026/04/Untitled-design-2.jpg
END:VEVENT
BEGIN:VEVENT
DTSTART;TZID=America/New_York:20260516T090000
DTEND;TZID=America/New_York:20260516T103000
DTSTAMP:20260424T025345
CREATED:20260305T205157Z
LAST-MODIFIED:20260324T155047Z
UID:10002234-1778922000-1778927400@vancortlandt.org
SUMMARY:Birding with NYC Bird Alliance
DESCRIPTION:Van Cortlandt Park Alliance and NYC Bird Alliance invite you to join us during 4 weekend mornings of birding in the park this spring. \nExplore Van Cortlandt Park’s ecologically diverse grounds and celebrate a long tradition of birding in the park. We will look for various species of resident and migratory birds and discuss a wide range of avian topics. Each walk will be led by a NYC Bird Alliance (formerly NYC Audubon) guide. \nAdvance registration is required. You must register separately for each date you would like to attend. \nBirding sessions meet at 9am on the following dates: \n\nSaturday\, April 11\nSunday\, April 26\nSaturday\, May 16\nSunday\, June 14\n\nNote: We do not provide binoculars and suggest that attendees bring their own. \nWant us to continue birding programs in the future? Please make a donation during checkout. All donations made will be used to continue birding programs. \nAs space is limited\, if you are not able to attend please let us know ASAP so we can fill in your spot by emailing info@vancortlandt.org. \nRSVP Now. \nThese birding events are generously supported by NYC Bird Alliance. \nPhoto by Jack Rothman
URL:https://vancortlandt.org/event/birding-with-nyc-bird-alliance-4/2026-05-16/
CATEGORIES:Community
ATTACH;FMTTYPE=image/png:https://vancortlandt.org/wp-content/uploads/2023/02/Birdwalk-photo-by-Jack-Rothman-for-website.png
END:VEVENT
BEGIN:VEVENT
DTSTART;VALUE=DATE:20260517
DTEND;VALUE=DATE:20260518
DTSTAMP:20260424T025345
CREATED:20260417T113904Z
LAST-MODIFIED:20260417T113904Z
UID:10002413-1778976000-1779062399@vancortlandt.org
SUMMARY:Register Now for 26.2 in '26
DESCRIPTION:Hike (or Run or Walk) 26.2 miles in Van Cortlandt Park in 2026! \n\n\n\n\nThe Challenge: \nHike 26.2 miles in Van Cortlandt Park anytime during 2026\, post on social media (@vcpalliance) from the park to spread the word\, and wear your 26.2 in ‘26 Finisher’s Pin with pride once you attain your goal (because you earned it!). \nVCPA will provide you with route options within Van Cortlandt Park\, the third largest park in NYC\, but you pick your method (hike\, run\, stroll\, skip) and you pick when (as long as you complete it all by December 31\, 2026). Van Cortlandt Park\, located in the Northwest Bronx\, has over 20 miles of trails of various levels of difficulty. If any of the suggested trails are too strenuous\, you can substitute as you like. The specific trails do not matter as much as hitting the goal of 26.2 miles. \nRegistration: \nRegister now to receive the list of 9 different trails you can hike and some start-up swag! More details below. \nRegistration closes October 15\, 2026 but the sooner you register\, the more perks you will receive\, and the more time you will have to meet the challenge. \nCost/Proceeds: \nFor only $52 per adult ($26 for those under 18)\, you can participate\, receive swag\, and make a difference in Van Cortlandt Park. You also gain access to exclusive hikes in the park\, led by fabulous (and knowledgeable) VCPA staff. All proceeds support Van Cortlandt Park Alliance’s environmental education\, internship and community stewardship programs. \nThe Swag: \nEvery participant gets a VCPA bag\, VCPA die-cut sticker\, VCP map\, and invitations to exclusive 26.2 in ‘26 guided hikes (optional but will count towards your 26.2 miles). After you complete your hikes\, you will receive an exclusive 26.2 in ‘26 Finishers Pin and bragging rights! Pins will be mailed starting in Fall of 2026. \nRegister Now.
URL:https://vancortlandt.org/event/register-now-for-26-2-in-26/2026-05-17/
CATEGORIES:Hikes
ATTACH;FMTTYPE=image/jpeg:https://vancortlandt.org/wp-content/uploads/2026/04/Untitled-design-2.jpg
END:VEVENT
END:VCALENDAR