BEGIN:VCALENDAR
VERSION:2.0
PRODID:-//Van Cortlandt Park Alliance - ECPv6.15.20//NONSGML v1.0//EN
CALSCALE:GREGORIAN
METHOD:PUBLISH
X-ORIGINAL-URL:https://vancortlandt.org
X-WR-CALDESC:Events for Van Cortlandt Park Alliance
REFRESH-INTERVAL;VALUE=DURATION:PT1H
X-Robots-Tag:noindex
X-PUBLISHED-TTL:PT1H
BEGIN:VTIMEZONE
TZID:America/New_York
BEGIN:DAYLIGHT
TZOFFSETFROM:-0500
TZOFFSETTO:-0400
TZNAME:EDT
DTSTART:20250309T070000
END:DAYLIGHT
BEGIN:STANDARD
TZOFFSETFROM:-0400
TZOFFSETTO:-0500
TZNAME:EST
DTSTART:20251102T060000
END:STANDARD
BEGIN:DAYLIGHT
TZOFFSETFROM:-0500
TZOFFSETTO:-0400
TZNAME:EDT
DTSTART:20260308T070000
END:DAYLIGHT
BEGIN:STANDARD
TZOFFSETFROM:-0400
TZOFFSETTO:-0500
TZNAME:EST
DTSTART:20261101T060000
END:STANDARD
BEGIN:DAYLIGHT
TZOFFSETFROM:-0500
TZOFFSETTO:-0400
TZNAME:EDT
DTSTART:20270314T070000
END:DAYLIGHT
BEGIN:STANDARD
TZOFFSETFROM:-0400
TZOFFSETTO:-0500
TZNAME:EST
DTSTART:20271107T060000
END:STANDARD
END:VTIMEZONE
BEGIN:VEVENT
DTSTART;TZID=America/New_York:20260406T140000
DTEND;TZID=America/New_York:20260406T153000
DTSTAMP:20260426T002539
CREATED:20260323T132457Z
LAST-MODIFIED:20260324T153030Z
UID:10002240-1775484000-1775489400@vancortlandt.org
SUMMARY:Van Cortlandt Park Nature Group Walk
DESCRIPTION:Take a slow walk in the park and learn about local flora and fauna with naturalist Debbi Dolan. Debbi has a wealth of knowledge about nature\, plants\, and wildlife that she enjoys sharing. \nThis walk will meet in the parking lot of the Riverdale Stables and will walk through the Northwest Woods of Van Cortlandt Park. \nRSVP Now.
URL:https://vancortlandt.org/event/van-cortlandt-park-nature-group-walk-2/
CATEGORIES:Hikes
ATTACH;FMTTYPE=image/jpeg:https://vancortlandt.org/wp-content/uploads/2026/03/Nature-group-website.jpg
END:VEVENT
BEGIN:VEVENT
DTSTART;TZID=America/New_York:20260408T090000
DTEND;TZID=America/New_York:20260408T120000
DTSTAMP:20260426T002539
CREATED:20260323T203832Z
LAST-MODIFIED:20260323T203832Z
UID:10002242-1775638800-1775649600@vancortlandt.org
SUMMARY:Woodlawn Wednesday
DESCRIPTION:Help restore the beautiful woodlands of Van Cortlandt Park’s east side! Join us for Woodlawn Wednesdays\, where volunteers like you play a vital role in preserving this important urban ecosystem. \nYou might: \nRemove Invasive Species: Tackle harmful plants like multiflora rose\, bush honeysuckle\, bittersweet\, and Japanese angelica tree that threaten our native biodiversity. \nMaintain Trails: Keep paths clear\, safe\, and welcoming for all park visitors. \nNo experience needed! We provide all tools and gloves. You’ll also learn about forest ecology\, plant ID\, and restoration techniques. \nWhere: \nMeet outside the handball courts at Woodlawn Playground \n(Located on the east side of Van Cortlandt Park) \nRSVP Now.
URL:https://vancortlandt.org/event/woodlawn-wednesday/2026-04-08/
CATEGORIES:Volunteer
ATTACH;FMTTYPE=image/jpeg:https://vancortlandt.org/wp-content/uploads/2026/03/IMG_6617.jpeg
END:VEVENT
BEGIN:VEVENT
DTSTART;TZID=America/New_York:20260409T090000
DTEND;TZID=America/New_York:20260409T120000
DTSTAMP:20260426T002539
CREATED:20260323T205307Z
LAST-MODIFIED:20260323T205522Z
UID:10002305-1775725200-1775736000@vancortlandt.org
SUMMARY:Trail Work Thursdays
DESCRIPTION:Help Maintain the Trails that Keep the Park Connected\n\n\n\n\n\nBe a part of the community effort to maintain the trails in Van Cortlandt Park. Whether you’re an experienced trailblazer or new to trail maintenance\, your help will make a significant impact! \nWhat We’ll Be Doing: \nLearn how to plan and assess site to install a puncheon. \nClearing debris and overgrowth \nEnsuring trail safety and accessibility \nTrail structure installation \n\n\nMeeting Location: Southern end of Van Cortlandt Park Golf House\n\n\n\nRSVP Now.
URL:https://vancortlandt.org/event/trail-work-thursdays-6/2026-04-09/
CATEGORIES:Volunteer
ATTACH;FMTTYPE=image/jpeg:https://vancortlandt.org/wp-content/uploads/2026/03/IMG_6603.jpeg
END:VEVENT
BEGIN:VEVENT
DTSTART;TZID=America/New_York:20260410T090000
DTEND;TZID=America/New_York:20260410T120000
DTSTAMP:20260426T002539
CREATED:20260323T210050Z
LAST-MODIFIED:20260323T210050Z
UID:10002362-1775811600-1775822400@vancortlandt.org
SUMMARY:Forest Fridays
DESCRIPTION:Volunteers will assist with forest restoration work\, including invasive species removal\, planting\, compost management\, and general site maintenance. \nVolunteers should wear long sleeves and pants\, bring water and snacks\, and be prepared for physical work. No prior experience required\, but enthusiasm for environmental conservation is a plus. \nFor April\, Forest Fridays will meet at VCPA’s Learning Garden near the Riverdale Stables. \nNote: There is no session on 4/24/26. \nRSVP Now.
URL:https://vancortlandt.org/event/forest-fridays-18/2026-04-10/
CATEGORIES:Volunteer
ATTACH;FMTTYPE=image/png:https://vancortlandt.org/wp-content/uploads/2025/04/Untitled-design-30.png
END:VEVENT
BEGIN:VEVENT
DTSTART;TZID=America/New_York:20260411T090000
DTEND;TZID=America/New_York:20260411T103000
DTSTAMP:20260426T002539
CREATED:20260305T205157Z
LAST-MODIFIED:20260324T155047Z
UID:10002232-1775898000-1775903400@vancortlandt.org
SUMMARY:Birding with NYC Bird Alliance
DESCRIPTION:Van Cortlandt Park Alliance and NYC Bird Alliance invite you to join us during 4 weekend mornings of birding in the park this spring. \nExplore Van Cortlandt Park’s ecologically diverse grounds and celebrate a long tradition of birding in the park. We will look for various species of resident and migratory birds and discuss a wide range of avian topics. Each walk will be led by a NYC Bird Alliance (formerly NYC Audubon) guide. \nAdvance registration is required. You must register separately for each date you would like to attend. \nBirding sessions meet at 9am on the following dates: \n\nSaturday\, April 11\nSunday\, April 26\nSaturday\, May 16\nSunday\, June 14\n\nNote: We do not provide binoculars and suggest that attendees bring their own. \nWant us to continue birding programs in the future? Please make a donation during checkout. All donations made will be used to continue birding programs. \nAs space is limited\, if you are not able to attend please let us know ASAP so we can fill in your spot by emailing info@vancortlandt.org. \nRSVP Now. \nThese birding events are generously supported by NYC Bird Alliance. \nPhoto by Jack Rothman
URL:https://vancortlandt.org/event/birding-with-nyc-bird-alliance-4/2026-04-11/
CATEGORIES:Community
ATTACH;FMTTYPE=image/png:https://vancortlandt.org/wp-content/uploads/2023/02/Birdwalk-photo-by-Jack-Rothman-for-website.png
END:VEVENT
BEGIN:VEVENT
DTSTART;TZID=America/New_York:20260411T100000
DTEND;TZID=America/New_York:20260411T120000
DTSTAMP:20260426T002539
CREATED:20260315T140253Z
LAST-MODIFIED:20260315T140253Z
UID:10002237-1775901600-1775908800@vancortlandt.org
SUMMARY:Pitch in for NYC Parks
DESCRIPTION:Pitch in for NYC Parks Day at Van Cortlandt Park \nVan Cortlandt Park is one of New York City’s largest and most ecologically rich parks\, and keeping it clean takes community effort. \nJoin Van Cortlandt Park Alliance for our annual Pitch in for NYC Parks Day event\, a morning of hands-on park stewardship near Caryl Field along the park’s northern edge by the Yonkers border. Volunteers will collect litter and debris from park paths\, natural areas\, and surrounding green spaces\, making a direct and visible difference in the park. \nNo experience is required. Gloves\, bags\, and all equipment will be provided. Please wear sturdy closed-toe shoes and clothes you do not mind getting dirty\, and bring water. \nSaturday\, April 11\, 10am to 12pm at Caryl Field. \nRSVP Now
URL:https://vancortlandt.org/event/pitch-in-for-nyc-parks/
CATEGORIES:Volunteer
ATTACH;FMTTYPE=image/jpeg:https://vancortlandt.org/wp-content/uploads/2026/03/Untitled-design-12.jpg
END:VEVENT
BEGIN:VEVENT
DTSTART;TZID=America/New_York:20260411T133000
DTEND;TZID=America/New_York:20260411T153000
DTSTAMP:20260426T002539
CREATED:20260226T211210Z
LAST-MODIFIED:20260315T140710Z
UID:10002224-1775914200-1775921400@vancortlandt.org
SUMMARY:Tree Identification Walk
DESCRIPTION:Put your ID skills to the test and have the opportunity to ask the experts! \n\n\n\n\nThink all trees look the same ? Think again! Join us for an in-person tree identification walk in Van Cortlandt Park hosted by Riverside Park Conservancy and Van Cortlandt Park Alliance where we will be identifying common New York trees. We’ll explore bark patterns\, twig shapes\, and buds\,–nature’s secret clues hiding in plain sight. Perfect for hikers\, naturalists\, and anyone who wants to deepen their connection to the woods. \nMeet at the southern end of the Van Cortlandt Golf House. \nRSVP Now.
URL:https://vancortlandt.org/event/tree-identification-walk/
CATEGORIES:Hikes
ATTACH;FMTTYPE=image/png:https://vancortlandt.org/wp-content/uploads/2022/10/Forest-Pic-for-Website.png
END:VEVENT
END:VCALENDAR