BEGIN:VCALENDAR
VERSION:2.0
PRODID:-//Van Cortlandt Park Alliance - ECPv6.15.20//NONSGML v1.0//EN
CALSCALE:GREGORIAN
METHOD:PUBLISH
X-ORIGINAL-URL:https://vancortlandt.org
X-WR-CALDESC:Events for Van Cortlandt Park Alliance
REFRESH-INTERVAL;VALUE=DURATION:PT1H
X-Robots-Tag:noindex
X-PUBLISHED-TTL:PT1H
BEGIN:VTIMEZONE
TZID:America/New_York
BEGIN:DAYLIGHT
TZOFFSETFROM:-0500
TZOFFSETTO:-0400
TZNAME:EDT
DTSTART:20250309T070000
END:DAYLIGHT
BEGIN:STANDARD
TZOFFSETFROM:-0400
TZOFFSETTO:-0500
TZNAME:EST
DTSTART:20251102T060000
END:STANDARD
BEGIN:DAYLIGHT
TZOFFSETFROM:-0500
TZOFFSETTO:-0400
TZNAME:EDT
DTSTART:20260308T070000
END:DAYLIGHT
BEGIN:STANDARD
TZOFFSETFROM:-0400
TZOFFSETTO:-0500
TZNAME:EST
DTSTART:20261101T060000
END:STANDARD
BEGIN:DAYLIGHT
TZOFFSETFROM:-0500
TZOFFSETTO:-0400
TZNAME:EDT
DTSTART:20270314T070000
END:DAYLIGHT
BEGIN:STANDARD
TZOFFSETFROM:-0400
TZOFFSETTO:-0500
TZNAME:EST
DTSTART:20271107T060000
END:STANDARD
END:VTIMEZONE
BEGIN:VEVENT
DTSTART;TZID=America/New_York:20260110T100000
DTEND;TZID=America/New_York:20260110T140000
DTSTAMP:20260422T125736
CREATED:20251210T143318Z
LAST-MODIFIED:20251210T143318Z
UID:10002092-1768039200-1768053600@vancortlandt.org
SUMMARY:Mulchfest
DESCRIPTION:Two Dates: Saturday\, January 10 and Sunday\, January 11 from 10am to 2pm \nRecycle your holiday tree by bringing it to Van Cortlandt Park\, where the VCP Forest Restoration Crew will chip it into mulch! \nTrees can be dropped off prior to Mulchfest. For more information about drop-off locations throughout the city\, visit NYC Parks’ Mulchfest page.\n \nEvent held in the “free lot” near the Van Cortlandt Golf Course.\nAs you drive in from Bailey Avenue\, it will be the first parking lot on your left.
URL:https://vancortlandt.org/event/mulchfest-2-2/
CATEGORIES:Community
ATTACH;FMTTYPE=image/jpeg:https://vancortlandt.org/wp-content/uploads/2025/12/Mulchfest-Say-fir-well-to-your-holiday-tree-at-NYC-Parks.jpg
END:VEVENT
BEGIN:VEVENT
DTSTART;TZID=America/New_York:20260111T100000
DTEND;TZID=America/New_York:20260111T110000
DTSTAMP:20260422T125736
CREATED:20251222T153906Z
LAST-MODIFIED:20251222T153906Z
UID:10002096-1768125600-1768129200@vancortlandt.org
SUMMARY:VCP Nature Group Walk
DESCRIPTION:Take a slow walk in the park and learn about local flora and fauna with naturalist Debbi Dolan.\n\n\n\nTake a slow walk in the park and learn about local flora and fauna with naturalist Debbi Dolan. Debbi has a wealth of knowledge about nature\, plants\, and wildlife that she enjoys sharing. \nKick off the New Year with these nature walks: \nSunday\, January 11 meets at the Nature Center at 10 a.m. for a walk in Tibbett Meadow\, along the Mill Pond\, and marsh. \nRSVP Now.
URL:https://vancortlandt.org/event/vcp-nature-group-walk-3/
CATEGORIES:Community,Hikes
ATTACH;FMTTYPE=image/jpeg:https://vancortlandt.org/wp-content/uploads/2025/12/Untitled-design.jpg
END:VEVENT
END:VCALENDAR