BEGIN:VCALENDAR
VERSION:2.0
PRODID:-//Van Cortlandt Park Alliance - ECPv6.15.20//NONSGML v1.0//EN
CALSCALE:GREGORIAN
METHOD:PUBLISH
X-ORIGINAL-URL:https://vancortlandt.org
X-WR-CALDESC:Events for Van Cortlandt Park Alliance
REFRESH-INTERVAL;VALUE=DURATION:PT1H
X-Robots-Tag:noindex
X-PUBLISHED-TTL:PT1H
BEGIN:VTIMEZONE
TZID:America/New_York
BEGIN:DAYLIGHT
TZOFFSETFROM:-0500
TZOFFSETTO:-0400
TZNAME:EDT
DTSTART:20240310T070000
END:DAYLIGHT
BEGIN:STANDARD
TZOFFSETFROM:-0400
TZOFFSETTO:-0500
TZNAME:EST
DTSTART:20241103T060000
END:STANDARD
BEGIN:DAYLIGHT
TZOFFSETFROM:-0500
TZOFFSETTO:-0400
TZNAME:EDT
DTSTART:20250309T070000
END:DAYLIGHT
BEGIN:STANDARD
TZOFFSETFROM:-0400
TZOFFSETTO:-0500
TZNAME:EST
DTSTART:20251102T060000
END:STANDARD
BEGIN:DAYLIGHT
TZOFFSETFROM:-0500
TZOFFSETTO:-0400
TZNAME:EDT
DTSTART:20260308T070000
END:DAYLIGHT
BEGIN:STANDARD
TZOFFSETFROM:-0400
TZOFFSETTO:-0500
TZNAME:EST
DTSTART:20261101T060000
END:STANDARD
END:VTIMEZONE
BEGIN:VEVENT
DTSTART;TZID=America/New_York:20250804T160000
DTEND;TZID=America/New_York:20250804T180000
DTSTAMP:20260424T234143
CREATED:20250708T164835Z
LAST-MODIFIED:20250728T151019Z
UID:10001849-1754323200-1754330400@vancortlandt.org
SUMMARY:Caribeando Community Music and Dance Workshops
DESCRIPTION:Three Dates!\nMonday\, August 4 from 4 to 6pm\nSaturday\, August 9 from 2 to 4pm\nWednesday\, August 13 from 4 to 6pm \nRSVP Suggested. \nFollowing their inspiring Caribeando performance at the Hostos Center for the Arts and Culture last May\, Juan Usera and the Sambuco Tribe is offering an interactive Caribbean Music and Dance workshop in Van Cortlandt Park for the Bronx community. \nThe Caribeando Community Music and Dance Workshop provides an excellent opportunity to learn and practice Caribbean musical and dance traditions rooted in African heritage. Participants will learn Bomba\, Plena\, Guaracha\, Cha-cha-cha\, Merengue\, and more. All ages\, abilities\, and skill levels are welcome to explore the basic rhythms\, steps\, call-and-response interactions\, and shared community joy. \nWorkshop will be held next to the Enslaved African & Kingsbridge Burial Ground behind the Tennis Courts.\nParking is available in the Van Cortlandt Golf Lot. No driving inside the park allowed. \nThis project is made possible thanks to the Bronx Council on the Arts with funds from the Statewide Community Regrants Program\, a regrant program of the New York State Council on the Arts with the support of the Oﬃce of the Governor and the New York State Legislature. \n 
URL:https://vancortlandt.org/event/caribeando-community-music-and-dance-workshops/
CATEGORIES:Community
ATTACH;FMTTYPE=image/jpeg:https://vancortlandt.org/wp-content/uploads/2025/07/Caribeando-Music-and-Dance-Workshops-1.jpg
END:VEVENT
BEGIN:VEVENT
DTSTART;TZID=America/New_York:20250806T090000
DTEND;TZID=America/New_York:20250806T120000
DTSTAMP:20260424T234143
CREATED:20250729T203327Z
LAST-MODIFIED:20250826T160611Z
UID:10001873-1754470800-1754481600@vancortlandt.org
SUMMARY:Woodlawn Wednesdays
DESCRIPTION:Help restore the beautiful woodlands of Van Cortlandt Park’s east side! Join us for Woodlawn Wednesdays\, where volunteers like you play a vital role in preserving this important urban ecosystem. \nRSVP Now. \nWhat You’ll Do \nEach week\, we’ll focus on hands-on tasks that vary with the seasons. You might: \nRemove Invasive Species: Tackle harmful plants like multiflora rose\, bush honeysuckle\, bittersweet\, and Japanese angelica tree that threaten our native biodiversity. \nMaintain Trails: Keep paths clear\, safe\, and welcoming for all park visitors. \nPlant Native Species: Contribute to long-term forest health by planting native trees\, shrubs\, and wildflowers. \nNo experience needed! We provide all tools and gloves. You’ll also learn about learn about forest ecology\, plant ID\, and restoration techniques. \nWhere: \nMeet outside the handball courts at Woodlawn Playground – just north of Van Cortlandt Park East and Oneida Avenue. \nWhat to Bring: \nLong sleeves\, long pants (denim or canvas recommended)\, and a hat \nSturdy\, closed-toe shoes \nWater bottle and snacks \nSunscreen and bug spray (recommended) \nYour enthusiasm for conservation! \nVolunteer Policy for Minors \n• Ages 15 – 17 \nA parent or guardian must sign and submit a volunteer waiver. Once the waiver is on file\, the minor may participate without an accompanying adult. \n• Ages 12 – 14 \nA parent or guardian must accompany the minor and remain on-site for the entire project. \n• Under 12 \nChildren may volunteer only at events specifically labeled family-friendly and must be accompanied by a parent or guardian at all times. \n  \n 
URL:https://vancortlandt.org/event/woodlawn-wednesdays-5/2025-08-06/
CATEGORIES:Volunteer
ATTACH;FMTTYPE=image/jpeg:https://vancortlandt.org/wp-content/uploads/2025/07/Untitled-design-47.jpg
END:VEVENT
BEGIN:VEVENT
DTSTART;TZID=America/New_York:20250806T140000
DTEND;TZID=America/New_York:20250806T190000
DTSTAMP:20260424T234143
CREATED:20250702T110401Z
LAST-MODIFIED:20250702T163300Z
UID:10001831-1754488800-1754506800@vancortlandt.org
SUMMARY:Youth Run Farm Stand
DESCRIPTION:We are very excited to bring our Youth Run Farmstand featuring fresh local produce at affordable prices back! \nWednesdays 2-7pm\nfrom July 9 to October 29\nTrain Park (Gale Place and Orloff Avenue) \nWe accept WIC\, FMNP Checks\, EBT\, Snap\, Fresh Connect Checks\, Cash and Credit/Debit.
URL:https://vancortlandt.org/event/youth-run-farm-stand-4/2025-08-06/
CATEGORIES:Community
ATTACH;FMTTYPE=image/jpeg:https://vancortlandt.org/wp-content/uploads/2025/07/farmstand.2025.homepage.jpg
END:VEVENT
BEGIN:VEVENT
DTSTART;TZID=America/New_York:20250807T190000
DTEND;TZID=America/New_York:20250807T200000
DTSTAMP:20260424T234143
CREATED:20250731T161018Z
LAST-MODIFIED:20250731T161136Z
UID:10001885-1754593200-1754596800@vancortlandt.org
SUMMARY:Yoga in the Park
DESCRIPTION:Yoga in the Park • Curated by Timothy Lewis \nThursdays: July 10\, 17\, 24 & August 7 \nNote: July 31 session has been rescheduled for August 7 due to rain. \n7 to 8 PM • FREE! \nExploratory yoga sessions\, incorporating elements of Vinyasa and focusing on mindful movement. Pre-registration strongly suggested. Beginners welcome. BYOM: Bring Your Own Mat!No experience needed\, just bring a mat\, water\, and an open heart.Van Cortlandt Park Memorial Grove \nJuly 10 with Instructor Timothy Lewis \nReconnect with the natural world and your own inner landscape. Through mindful movement\, breathwork\, and stillness\, we’ll explore how the elements—earth\, water\, fire\, air\, and space live within the body. \nJuly 17 with Instructor Melissa Rios \nFind your flow! Looking for a refreshing way to wind down in the evening? Come join us where fresh air\, sunset\, and good vibes meet! Let’s stretch\, breathe\, and move together under the open sky. \nJuly 24 with Instructor Ishkara Heqwabti \nCalm your nervous system and feel consciously aware of the here and now. \nThis 60-minute class blends 30 minutes of Kemetic Yoga (an ancient Egyptian practice focused on breath and posture) and 30 minutes of immersive sound meditation using crystal singing bowls\, voice and indigenous instruments that will leave you feeling grounded and renewed. \nAugust 7 with Instructor Wendy of Yoga4theBx \nRecharge and radiate like sunshine. We’ll use breath to flow through a Vinyasa yoga practice. \nVinyasa yoga\, also known as “flow yoga\,” is a dynamic style characterized by breath-synchronized movement\, linking poses in a continuous\, flowing sequence. It’s known for its energetic nature! \nRSVP Now.
URL:https://vancortlandt.org/event/yoga-in-the-park/
CATEGORIES:Community
ATTACH;FMTTYPE=image/jpeg:https://vancortlandt.org/wp-content/uploads/2025/06/Yoga-for-website.jpg
END:VEVENT
BEGIN:VEVENT
DTSTART;TZID=America/New_York:20250808T090000
DTEND;TZID=America/New_York:20250808T120000
DTSTAMP:20260424T234143
CREATED:20250729T201910Z
LAST-MODIFIED:20250828T121817Z
UID:10001869-1754643600-1754654400@vancortlandt.org
SUMMARY:Forest Fridays
DESCRIPTION:Together\, we’ll remove species like multiflora rose\, bittersweet\, and porcelain berry to make space for native plants to thrive. Your hands-on efforts will support the regeneration of this 640-acre urban ecosystem for generations to come. \nRSVP Now. \n🛠️ What We’ll Do: \n• Identify and remove invasive plants using loppers\, weed wrenches\, and hand tools \n• Clear restoration zones to prepare for native regrowth \n• Learn on-the-ground forest ecology\, urban habitat restoration\, and plant ID \n• (Bonus) Plant a few native species as conditions allow \n📍 Where: \nVan Cortlandt Park – Garden & Compost Site \n(We’ll hike together to the day’s restoration site from there) \n🧰 What to Bring: \n• Layers: Long pants (canvas/denim)\, long sleeves\, and a hat to protect from thorns and sun \n• Shoes: Sturdy\, closed-toe footwear is required (no sandals or Crocs) \n• Extras: Reusable water bottle\, snacks\, sunscreen \n• Tools & Gloves: Provided — bring your own gloves if preferred \n⚠️ Important Notes \nThis is real forest work! Expect uneven terrain and encounters with thorny plants\, poison ivy\, and ticks. We’ll guide you on safety and awareness — please dress accordingly and check for ticks after your shift. \nVolunteer Policy for Minors \n• Ages 15 – 17 \nA parent or guardian must sign and submit a volunteer waiver. Once the waiver is on file\, the minor may participate without an accompanying adult. \n• Ages 12 – 14 \nA parent or guardian must accompany the minor and remain on-site for the entire project. \n• Under 12 \nChildren may volunteer only at events specifically labeled family-friendly and must be accompanied by a parent or guardian at all times.
URL:https://vancortlandt.org/event/forest-fridays-12/2025-08-08/
CATEGORIES:Volunteer
ATTACH;FMTTYPE=image/jpeg:https://vancortlandt.org/wp-content/uploads/2025/07/Untitled-design-46.jpg
END:VEVENT
BEGIN:VEVENT
DTSTART;TZID=America/New_York:20250808T100000
DTEND;TZID=America/New_York:20250808T120000
DTSTAMP:20260424T234143
CREATED:20250624T181238Z
LAST-MODIFIED:20250730T173539Z
UID:10001753-1754647200-1754654400@vancortlandt.org
SUMMARY:Family Fridays in the Garden
DESCRIPTION:Due to the extreme heat\, Family Fridays for July 25 has been canceled.   \nAre you ready for some family gardening fun? \nCome dig for compost critters\, water the plants\, explore nature\, harvest some veggies\, and more at Van Cortlandt Park Alliance’s Education Garden! \nThis is a FREE drop-in program. \nFor children ages 2 to 11 years old accompanied by an adult(s). \n📅 Dates: \n\nAugust 1\nAugust 8\nAugust 15\nAugust 22\n\n🕐 Time: 10 AM – 12 PM \n📍 Location: The VCPA Compost Site and Education Garden is located at: Mosholu Avenue and Broadway (next to the Horse Stables). \nDrop-ins are welcome\, but advance registration is preferred. \nPlease e-mail us with any questions at gardening@vancortlandt.org \n 
URL:https://vancortlandt.org/event/family-fridays-in-the-garden/2025-08-08/
CATEGORIES:Community
ATTACH;FMTTYPE=image/png:https://vancortlandt.org/wp-content/uploads/2025/06/family-garden-days-website-pic-2-1.png
END:VEVENT
BEGIN:VEVENT
DTSTART;TZID=America/New_York:20250808T140000
DTEND;TZID=America/New_York:20250808T150000
DTSTAMP:20260424T234143
CREATED:20250721T161750Z
LAST-MODIFIED:20250721T161750Z
UID:10001862-1754661600-1754665200@vancortlandt.org
SUMMARY:VCP Nature Group Walk
DESCRIPTION:Take a slow walk in the park and learn about our local flora and fauna from naturalist Debbi Dolan. Debbi has a wealth of knowledge about nature that she enjoys sharing with everyone. \nWalk will meet near the Riverdale Stables. \nSpace is limited.\nAdvanced Registration Required. \nWhat to expect in August: \nThe warm\, dry summer had leaves beginning to dry out on plants and trees\, but lately the spate of rain has cooled temperatures. Cicadas and crickets can now be heard buzzing along with melodious birdsong. Butterflies are gracing the meadows\, and cottontail rabbits are grazing. Woodland sunflowers\, swamp rose mallow\, ironweed and Joe-Pye are attracting pollinators\, and we hope Jewelweed flowers will bring ruby throated hummingbirds to their nectar. Berries and seeds are ripening to please other avian species. Dragonflies are patrolling the millpond\, and wood ducks are slogging through the water chestnut.
URL:https://vancortlandt.org/event/vcp-nature-group-walk-2/
CATEGORIES:Community,Hikes
ATTACH;FMTTYPE=image/jpeg:https://vancortlandt.org/wp-content/uploads/2025/07/Untitled-design-6.jpg
END:VEVENT
BEGIN:VEVENT
DTSTART;TZID=America/New_York:20250809T140000
DTEND;TZID=America/New_York:20250809T160000
DTSTAMP:20260424T234143
CREATED:20250718T141540Z
LAST-MODIFIED:20250718T141540Z
UID:10001856-1754748000-1754755200@vancortlandt.org
SUMMARY:Caribeando Community Music and Dance Workshops
DESCRIPTION:Three Dates!\nMonday\, August 4 from 4 to 6pm\nSaturday\, August 9 from 2 to 4pm\nWednesday August 13 from 4 to 6pm \nRSVP Suggested. \nFollowing their inspiring Caribeando performance at the Hostos Center for the Arts and Culture last May\, Juan Usera and the Sambuco Tribe is offering an interactive Caribbean Music and Dance workshop in Van Cortlandt Park for the Bronx community. \nThe Caribeando Community Music and Dance Workshop provides an excellent opportunity to learn and practice Caribbean musical and dance traditions rooted in African heritage. Participants will learn Bomba\, Plena\, Guaracha\, Cha-cha-cha\, Merengue\, and more. All ages\, abilities\, and skill levels are welcome to explore the basic rhythms\, steps\, call-and-response interactions\, and shared community joy. \nWorkshop will be held next to the Enslaved African & Kingsbridge Burial Ground behind the Tennis Courts.\nParking is available in the Van Cortlandt Golf Lot. No driving inside the park allowed. \nThis project is made possible thanks to the Bronx Council on the Arts with funds from the Statewide Community Regrants Program\, a regrant program of the New York State Council on the Arts with the support of the Oﬃce of the Governor and the New York State Legislature.
URL:https://vancortlandt.org/event/caribeando-community-music-and-dance-workshops-2/
CATEGORIES:Community
ATTACH;FMTTYPE=image/jpeg:https://vancortlandt.org/wp-content/uploads/2025/07/Caribeando-Music-and-Dance-Workshops-1.jpg
END:VEVENT
END:VCALENDAR