BEGIN:VCALENDAR
VERSION:2.0
PRODID:-//Van Cortlandt Park Alliance - ECPv6.15.20//NONSGML v1.0//EN
CALSCALE:GREGORIAN
METHOD:PUBLISH
X-WR-CALNAME:Van Cortlandt Park Alliance
X-ORIGINAL-URL:https://vancortlandt.org
X-WR-CALDESC:Events for Van Cortlandt Park Alliance
REFRESH-INTERVAL;VALUE=DURATION:PT1H
X-Robots-Tag:noindex
X-PUBLISHED-TTL:PT1H
BEGIN:VTIMEZONE
TZID:America/New_York
BEGIN:DAYLIGHT
TZOFFSETFROM:-0500
TZOFFSETTO:-0400
TZNAME:EDT
DTSTART:20240310T070000
END:DAYLIGHT
BEGIN:STANDARD
TZOFFSETFROM:-0400
TZOFFSETTO:-0500
TZNAME:EST
DTSTART:20241103T060000
END:STANDARD
BEGIN:DAYLIGHT
TZOFFSETFROM:-0500
TZOFFSETTO:-0400
TZNAME:EDT
DTSTART:20250309T070000
END:DAYLIGHT
BEGIN:STANDARD
TZOFFSETFROM:-0400
TZOFFSETTO:-0500
TZNAME:EST
DTSTART:20251102T060000
END:STANDARD
BEGIN:DAYLIGHT
TZOFFSETFROM:-0500
TZOFFSETTO:-0400
TZNAME:EDT
DTSTART:20260308T070000
END:DAYLIGHT
BEGIN:STANDARD
TZOFFSETFROM:-0400
TZOFFSETTO:-0500
TZNAME:EST
DTSTART:20261101T060000
END:STANDARD
END:VTIMEZONE
BEGIN:VEVENT
DTSTART;TZID=America/New_York:20250312T090000
DTEND;TZID=America/New_York:20250312T120000
DTSTAMP:20260424T143133
CREATED:20250226T161351Z
LAST-MODIFIED:20250226T161612Z
UID:10001432-1741770000-1741780800@vancortlandt.org
SUMMARY:Woodlawn Wednesdays
DESCRIPTION:Help restore the beautiful woodlands on the east side of Van Cortlandt Park! Join us for Woodlawn Wednesdays\, where volunteers like you play a vital role in preserving this important urban ecosystem. \nEach week\, we’ll focus on hands-on tasks that vary with the seasons including: \n\nRemoving Invasive Species: Help us tackle invasive plants like multiflora rose\, bush honeysuckle\, bittersweet\, and Japanese angelica\, which threaten our native flora.\nMaintaining Trails: Ensure trails are clear and accessible for all park visitors.\nPlanting Native Species: Contribute to the forest’s future by planting native trees\, shrubs\, and wildflowers.\n\nNo experience is necessary! We provide all tools and gloves. You’ll also learn about native plants\, invasive species management\, and forest ecology from experienced volunteers. \nMeet outside the handball courts at the Woodlawn Playground on the park’s east side. \nWhat to Bring: \n\nLong sleeves\, long pants (denim or canvas recommended)\, and a hat\nSturdy\, closed-toe shoes\nWater bottle and snacks\nSunscreen and bug spray (recommended)\nYour enthusiasm for conservation!\n\nRSVP Now.
URL:https://vancortlandt.org/event/woodlawn-wednesdays-3/2025-03-12/
CATEGORIES:Volunteer
ATTACH;FMTTYPE=image/jpeg:https://vancortlandt.org/wp-content/uploads/2024/12/woodlawn-for-web.jpg
END:VEVENT
BEGIN:VEVENT
DTSTART;TZID=America/New_York:20250313T090000
DTEND;TZID=America/New_York:20250313T120000
DTSTAMP:20260424T143133
CREATED:20250220T212245Z
LAST-MODIFIED:20250329T170511Z
UID:10001368-1741856400-1741867200@vancortlandt.org
SUMMARY:Trail Work Thursdays
DESCRIPTION:Be a part of the community effort to maintain the trails in Van Cortlandt Park. Whether you’re an experienced trailblazer or new to trail maintenance\, your help will make a significant impact! \nMeeting Details:\nLocation: Van Cortlandt Park\, Garden and Education Compost Site\, across from Riverdale Stables.\nTime: 9 am sharp; work begins at 9:15 am \nUpcoming Activities Include:\nClearing debris and overgrowth\nEnsuring trail safety and accessibility\nDesire line closures \nWhat to Bring:\nComfortable\, weather-appropriate clothing\nClosed-toed shoes\nWater and a snack \nWhy Join Us?\nContribute to the vitality and safety of the trails you love! Engage with fellow community members\, learn about trail maintenance\, and enjoy the satisfaction of hands-on work in the great outdoors.\nNecessary tools and gloves will be provided! \nWant to bring a group? This event is limited to small groups of 5 or less. If you would like to bring more 6 or more people please reach out to stewardship@vancortlandt.org to schedule a separate event. \n\n\n\n\n\n\n\n\n\n\n\n\nRSVP Now.
URL:https://vancortlandt.org/event/trail-work-thursdays-2/2025-03-13/
CATEGORIES:Volunteer
ATTACH;FMTTYPE=image/jpeg:https://vancortlandt.org/wp-content/uploads/2025/02/XC-events-for-website.jpg
END:VEVENT
BEGIN:VEVENT
DTSTART;TZID=America/New_York:20250314T090000
DTEND;TZID=America/New_York:20250314T120000
DTSTAMP:20260424T143133
CREATED:20250226T162217Z
LAST-MODIFIED:20250306T183651Z
UID:10001440-1741942800-1741953600@vancortlandt.org
SUMMARY:Forest Fridays
DESCRIPTION:Note: Forest Friday on 3/7 has been canceled due to the wind advisory. \nHelp restore Van Cortlandt Park’s vital urban forest! Join our Forest Friday events to remove invasive plants like multiflora rose\, bittersweet\, and porcelain berry. Your efforts will create space for native plants to thrive and support the long-term health of this 640-acre ecosystem. \n\nIdentify and remove invasive plants such as multiflora rose\, bittersweet\, and porcelain berry.\nWork with hand tools to clear designated areas\, making way for native species.\nLearn about forest ecology and restoration techniques from experienced volunteers.\n\nMeet at the Garden & Compost Site \nWhat to Bring: \n\nDress in Layers: Wear long sleeves\, long pants (denim or canvas recommended)\, and a hat to protect yourself from thorns and the elements. Avoid puffy coats as they can snag easily. Old sweatshirts are a good choice.\nGloves and Tools: We provide gloves and all necessary tools\, but feel free to bring your own work gloves if you prefer.\nSturdy\, closed-toe shoes\nWater bottle and snacks\nEnthusiasm for conservation!\n\nRSVP Now.
URL:https://vancortlandt.org/event/forest-fridays-9/
CATEGORIES:Volunteer
ATTACH;FMTTYPE=image/jpeg:https://vancortlandt.org/wp-content/uploads/2024/12/Fridays-for-web.jpg
END:VEVENT
END:VCALENDAR