BEGIN:VCALENDAR
VERSION:2.0
PRODID:-//Van Cortlandt Park Alliance - ECPv6.15.20//NONSGML v1.0//EN
CALSCALE:GREGORIAN
METHOD:PUBLISH
X-ORIGINAL-URL:https://vancortlandt.org
X-WR-CALDESC:Events for Van Cortlandt Park Alliance
REFRESH-INTERVAL;VALUE=DURATION:PT1H
X-Robots-Tag:noindex
X-PUBLISHED-TTL:PT1H
BEGIN:VTIMEZONE
TZID:America/New_York
BEGIN:DAYLIGHT
TZOFFSETFROM:-0500
TZOFFSETTO:-0400
TZNAME:EDT
DTSTART:20230312T070000
END:DAYLIGHT
BEGIN:STANDARD
TZOFFSETFROM:-0400
TZOFFSETTO:-0500
TZNAME:EST
DTSTART:20231105T060000
END:STANDARD
BEGIN:DAYLIGHT
TZOFFSETFROM:-0500
TZOFFSETTO:-0400
TZNAME:EDT
DTSTART:20240310T070000
END:DAYLIGHT
BEGIN:STANDARD
TZOFFSETFROM:-0400
TZOFFSETTO:-0500
TZNAME:EST
DTSTART:20241103T060000
END:STANDARD
BEGIN:DAYLIGHT
TZOFFSETFROM:-0500
TZOFFSETTO:-0400
TZNAME:EDT
DTSTART:20250309T070000
END:DAYLIGHT
BEGIN:STANDARD
TZOFFSETFROM:-0400
TZOFFSETTO:-0500
TZNAME:EST
DTSTART:20251102T060000
END:STANDARD
END:VTIMEZONE
BEGIN:VEVENT
DTSTART;TZID=America/New_York:20241021T090000
DTEND;TZID=America/New_York:20241021T120000
DTSTAMP:20260424T014111
CREATED:20240719T190114Z
LAST-MODIFIED:20240726T223517Z
UID:10000952-1729501200-1729512000@vancortlandt.org
SUMMARY:Monday Morning Clean Ups
DESCRIPTION:Nice weekends bring lots of visitors to the park. Lots of visitors make a mess! \nVolunteers are needed to help park staff tidy up.\nHelp Van Cortlandt Park staff clean up after weekend picnicking. \nWe provide gloves and materials to help keep this park in tip-top shape. \nYou provide can-do spirit and sturdy shoes for walking! \nNote: There will be no Monday CleanUps on 9/2 or 10/14. \nMeet at 9 am at southern end of the Van Cortlandt Golf House. \nRSVP Now.
URL:https://vancortlandt.org/event/monday-morning-clean-ups/2024-10-21/
CATEGORIES:Volunteer
ATTACH;FMTTYPE=image/jpeg:https://vancortlandt.org/wp-content/uploads/2024/07/Untitled-840-x-560-px.jpg
END:VEVENT
BEGIN:VEVENT
DTSTART;TZID=America/New_York:20241022T100000
DTEND;TZID=America/New_York:20241022T130000
DTSTAMP:20260424T014111
CREATED:20240918T172325Z
LAST-MODIFIED:20240918T172741Z
UID:10001070-1729591200-1729602000@vancortlandt.org
SUMMARY:Garden Tune-Up Tuesdays
DESCRIPTION:Turnip to volunteer! At the VCPA Educational Garden & Compost Site\, we are open and enjoying our rebuilt space while maintaining our plants and produce. Volunteers will learn how to care for the garden\, maintain compost bins\, weed\, water\, and harvest produce. No gardening experience needed. 18 and older. \nGroups of 5+ must register as a unit via email to gardening@vancortlandt.org \nDates: \n\nSeptember 24\nOctober 8\nOctober 22\nNovember 12\n\nSessions run from 10am-1pm. \nRSVP Now.
URL:https://vancortlandt.org/event/garden-tune-up-tuesdays/2024-10-22/
CATEGORIES:Volunteer
ATTACH;FMTTYPE=image/jpeg:https://vancortlandt.org/wp-content/uploads/2024/07/tune-up-tuesday.jpg
END:VEVENT
BEGIN:VEVENT
DTSTART;TZID=America/New_York:20241023T090000
DTEND;TZID=America/New_York:20241023T120000
DTSTAMP:20260424T014111
CREATED:20240930T173940Z
LAST-MODIFIED:20240930T173940Z
UID:10001139-1729674000-1729684800@vancortlandt.org
SUMMARY:Wetland Wednesdays
DESCRIPTION:Each Wednesday\, we’ll focus on different tasks depending on the season—such as phragmites cutting\, water chestnut removal\, and other vital restoration activities. Our efforts help maintain the health and biodiversity of Van Cortlandt Park’s wetlands\, ensuring the sustainability of this important ecosystem. \nFor the October dates\, our primary task will be cutting back invasive phragmites reeds\, which threaten to overrun native plants and alter the wetland habitat. In other seasons\, we may tackle aquatic invasive species like water chestnut or work on additional restoration projects in the floodplain. \nWhat to Expect: \nSeasonal tasks: Depending on the time of year\, we could be thinning phragmites\, removing water chestnuts\, or engaging in other wetland restoration activities. \nHands-on involvement: Volunteers will work directly in the wetlands\, with tasks that may involve getting wet and muddy. \nEquipment provided: Waders\, gloves\, and tools will be supplied. \nWhat to Bring: \nLong sleeves\, pants\, and shoes you don’t mind getting dirty \nWater and snacks \nEnthusiasm for environmental restoration! \nLocation: \n📍 Meet at the southern end of the Van Cortlandt Golf House \nRSVP Now.
URL:https://vancortlandt.org/event/wetland-wednesdays-3/2024-10-23/
CATEGORIES:Volunteer
ATTACH;FMTTYPE=image/jpeg:https://vancortlandt.org/wp-content/uploads/2024/09/wetland-weds.jpg
END:VEVENT
BEGIN:VEVENT
DTSTART;TZID=America/New_York:20241023T140000
DTEND;TZID=America/New_York:20241023T190000
DTSTAMP:20260424T014111
CREATED:20240602T115854Z
LAST-MODIFIED:20240602T115854Z
UID:10000841-1729692000-1729710000@vancortlandt.org
SUMMARY:Youth Run Farm Stand
DESCRIPTION:We are very excited to bring our Youth Run Farmstand featuring fresh local produce and local goodies at affordable prices back! \nWednesdays 2-7pm\nfrom July 10 to October 30\nGale Place and Orloff Avenue \nWe accept WIC\, FMNP Checks\, EBT\, Snap\, Fresh Connect Checks\, Cash and Credit/Debit.
URL:https://vancortlandt.org/event/youth-run-farm-stand-3/2024-10-23/
CATEGORIES:Community
ATTACH;FMTTYPE=image/jpeg:https://vancortlandt.org/wp-content/uploads/2024/06/farmstand.2024.homepage.jpg
END:VEVENT
BEGIN:VEVENT
DTSTART;TZID=America/New_York:20241024T130000
DTEND;TZID=America/New_York:20241024T160000
DTSTAMP:20260424T014111
CREATED:20240924T175205Z
LAST-MODIFIED:20241002T142500Z
UID:10001072-1729774800-1729785600@vancortlandt.org
SUMMARY:Memorial Grove Maintenance for Veterans Day
DESCRIPTION:Join us in honoring our veterans by maintaining Memorial Grove in Van Cortlandt Park this October. We’re hosting two volunteer events to ensure the grove is beautifully prepared for our upcoming Veterans Day celebration. This is a wonderful opportunity to give back to the community\, enjoy the outdoors\, and connect with fellow volunteers. \nEvent Details:\nDates: Thursday 10/24 & 10/31\nTime: 1:00 PM – 4:00 PM\nLocation: Memorial Grove\, Van Cortlandt Park \nActivities:\nRaking Leaves: Gather and rake leaves to keep the grove tidy.\nPicking Up Sticks: Collect sticks and debris to maintain a clean environment.\nGeneral Upkeep: Assist with trimming\, trash collection\, and pathway maintenance. \nWhat We Provide:\nAll necessary tools and equipment (rakes\, gloves\, trash bags\, etc.)\nGuidance and training from the VCPA team\nA friendly\, supportive environment \nWhat to Bring:\nComfortable clothing suitable for outdoor work\nSturdy footwear\nWater\nSunscreen\nOptional: Your own gloves for added protection \nWhy Volunteer?\nHonor Veterans: Contribute to a meaningful cause that honors our heroes.\nCommunity Engagement: Meet and work alongside like-minded individuals.\nEnjoy the Outdoors: Spend a rewarding day in the beautiful Van Cortlandt Park.\nMake a Difference: Help create a welcoming and respectful space for Veterans Day. \nRSVP Now.
URL:https://vancortlandt.org/event/memorial-grove-maintenance-for-veterans-day/2024-10-24/
CATEGORIES:Volunteer
ATTACH;FMTTYPE=image/jpeg:https://vancortlandt.org/wp-content/uploads/2024/09/Untitled-design-10.jpg
END:VEVENT
BEGIN:VEVENT
DTSTART;TZID=America/New_York:20241025T090000
DTEND;TZID=America/New_York:20241025T120000
DTSTAMP:20260424T014111
CREATED:20240808T200125Z
LAST-MODIFIED:20241026T135358Z
UID:10001133-1729846800-1729857600@vancortlandt.org
SUMMARY:Forest Fridays
DESCRIPTION:🌳 What: Forest Restoration in the Northwest Forest \n📅 When: Fridays \n⏰ Time: 9:00 AM – 12:00 PM \n📍 Where: Van Cortlandt Park – Garden & Compost Site \nDescription: \nWe will be focusing on removing invasive species like porcelain berry\, bittersweet\, mile-a-minute\, Norway Maple and more. These activities are crucial in preserving the health and biodiversity of our forest. \nActivities Include: \n\nInvasive Species Removal: Help us eradicate invasive plants that threaten our native ecosystem.\nForest Restoration: Assist in the restoration of native plants and habitats.\nHands-on Activities: Engage in practical conservation efforts that make a real difference.\n\nWhat to Bring: \n\nLong sleeves and pants\nSturdy shoes\nWater and snacks\nEnthusiasm for environmental conservation!\n\nRSVP Now!  \nWant to bring a group?  This event is limited to small groups of 5 or less. If you would like to bring more 6 or more people please complete this form to schedule a separate event.
URL:https://vancortlandt.org/event/forest-fridays-6/2024-10-25/
CATEGORIES:Volunteer
ATTACH;FMTTYPE=image/jpeg:https://vancortlandt.org/wp-content/uploads/2024/07/Untitled-design-4.jpg
END:VEVENT
BEGIN:VEVENT
DTSTART;TZID=America/New_York:20241025T143000
DTEND;TZID=America/New_York:20241025T173000
DTSTAMP:20260424T014111
CREATED:20240906T151355Z
LAST-MODIFIED:20240929T135934Z
UID:10001057-1729866600-1729877400@vancortlandt.org
SUMMARY:Rowboating on the Mill Pond
DESCRIPTION:Village Community Boathouse is back with FREE rowboating on Hester and Piero’s Mill Pond. Rowboats for small groups will be available to paddle around the lake. Children must be accompanied by adults. First come first served. \nMeet at the southern end of the Mill Pond- enter the park at Van Cortlandt Park South and Bailey Avenue. \n 
URL:https://vancortlandt.org/event/rowboating-on-the-mill-pond-3/2024-10-25/
CATEGORIES:Community
ATTACH;FMTTYPE=image/png:https://vancortlandt.org/wp-content/uploads/2022/04/rowboats-for-website.png
END:VEVENT
BEGIN:VEVENT
DTSTART;TZID=America/New_York:20241026T090000
DTEND;TZID=America/New_York:20241026T103000
DTSTAMP:20260424T014111
CREATED:20240826T120243Z
LAST-MODIFIED:20240826T120243Z
UID:10001030-1729933200-1729938600@vancortlandt.org
SUMMARY:Birding with NYC Bird Alliance
DESCRIPTION:Explore Van Cortlandt Park’s ecologically diverse grounds and celebrate a long tradition of birding in the park. We will look for various species of resident and migratory birds and discuss a wide range of avian topics. Each walk will be led by a NYC Bird Alliance (formerly NYC Audubon) guide. \nAdvance registration is required. You must register separately for each date you would like to attend. \nEvents are on Saturdays meeting at 9am on the following dates: \n\nSeptember 14th\nSeptember 28th\nOctober 12th (World Migratory Bird Day)\nOctober 26th\nNovember 9th\n\nNote: We do not provide binoculars and suggest that attendees bring their own. \nRSVP Now. \nAs space is limited\, if you are not able to attend please let us know ASAP so we can fill in your spot by emailing info@vancortlandt.org. \nPhoto by Jack Rothman
URL:https://vancortlandt.org/event/birding-with-nyc-bird-alliance/2024-10-26/
CATEGORIES:Community
ATTACH;FMTTYPE=image/png:https://vancortlandt.org/wp-content/uploads/2023/02/Birdwalk-photo-by-Jack-Rothman-for-website.png
END:VEVENT
BEGIN:VEVENT
DTSTART;TZID=America/New_York:20241026T090000
DTEND;TZID=America/New_York:20241026T120000
DTSTAMP:20260424T014111
CREATED:20240930T150017Z
LAST-MODIFIED:20240930T150017Z
UID:10001135-1729933200-1729944000@vancortlandt.org
SUMMARY:City of Forest Week Planting Event
DESCRIPTION:Join us for an important planting event in the Northeast Forest as we work to preserve the health and biodiversity of our forest. \nActivities Include: \n\nInvasive Species Removal: Help us remove invasive plants threatening our native ecosystem.\nNative Species Planting: Get new trees and shrubs in the ground as part of City of Forest Week.\n\nWhat to Bring: \n\nLong sleeves and pants\nSturdy shoes\nWater and snacks\nEnthusiasm for environmental conservation!\n\nWhy Participate? \n\nContribute to the health of your local environment\nGain hands-on experience in conservation work\nMeet like-minded individuals passionate about the environment\n\nRSVP Now!
URL:https://vancortlandt.org/event/city-of-forest-week-planting-event/
ATTACH;FMTTYPE=image/png:https://vancortlandt.org/wp-content/uploads/2023/11/Tree-planting-tuesday.png
END:VEVENT
BEGIN:VEVENT
DTSTART;TZID=America/New_York:20241026T100000
DTEND;TZID=America/New_York:20241026T120000
DTSTAMP:20260424T014111
CREATED:20240909T173354Z
LAST-MODIFIED:20240927T192010Z
UID:10001063-1729936800-1729944000@vancortlandt.org
SUMMARY:Super Seedlings
DESCRIPTION:Super Seedlings is a FREE\, drop-in gardening program for kids ages 2-7 and their caregivers. \nEach session will have a fun seasonal theme to explore\, nature crafts\, garden produce to harvest\, soil digging\, and more! \nCome once\, twice\, or every week for some playing and planting! We hope to see you there! \n📅 Dates: \nCANCELED: Saturday\, September 28th \nSaturday\, October 5th \nSaturday\, October 12th \nSaturday\, October 26th \nSaturday\, November 2nd \n🕐 Time: 10 AM – 12 PM \n📍 Location: VCPA Educational Garden & Compost Site located at: Mosholu Avenue and Broadway (next to the Horse Stables). \nDrop-ins are welcome\, but advance registration is recommended. \nPlease e-mail us with any questions at gardening@vancortlandt.org
URL:https://vancortlandt.org/event/super-seedlings-3/2024-10-26/
CATEGORIES:Community
ATTACH;FMTTYPE=image/png:https://vancortlandt.org/wp-content/uploads/2024/09/Super-Seedlings-Fall.png
END:VEVENT
BEGIN:VEVENT
DTSTART;TZID=America/New_York:20241026T140000
DTEND;TZID=America/New_York:20241026T160000
DTSTAMP:20260424T014111
CREATED:20241015T193739Z
LAST-MODIFIED:20241023T180046Z
UID:10001142-1729951200-1729958400@vancortlandt.org
SUMMARY:Garden Cover Crop Community Workshop with NYRP
DESCRIPTION:Learn how to prepare garden beds for the winter with cover crop! \nJoin New York Restoration Project’s Urban Agriculture Team to learn all about the process and benefits of covering your garden with cover crops in preparation for Winter. \nWhat are cover crops? Cover crops are close-growing plants sown to cover bare ground in between plantings of vegetables. They are planted to improve soil quality and to provide other benefits to the garden ecosystem. \nGardeners of all levels are welcome! \nWhen: October 26th\, 2 – 4 PM \nWhere: VCPA Garden & Compost Site\, Enter the park at Broadway & Mosholu Ave. \nRSVP Now.
URL:https://vancortlandt.org/event/garden-cover-crop-community-workshop-with-nyrp/
CATEGORIES:Community
ATTACH;FMTTYPE=image/png:https://vancortlandt.org/wp-content/uploads/2024/10/NYRP-2.png
END:VEVENT
BEGIN:VEVENT
DTSTART;TZID=America/New_York:20241027T120000
DTEND;TZID=America/New_York:20241027T160000
DTSTAMP:20260424T014111
CREATED:20240928T121546Z
LAST-MODIFIED:20241010T215533Z
UID:10001134-1730030400-1730044800@vancortlandt.org
SUMMARY:Halloween: Wags to Witches
DESCRIPTION:Van Cortlandt Park Alliance and Van Cortlandt House Museum invite you to a FREE fang-tastic afternoon of family and doggy fun. Get ready for creepy crafts\, face painting\, spine-chilling stories and more!  Event will be held on the lawn of the Van Cortlandt House Museum.\n\nJoin us at 2pm for our Second Annual Canine Costume Contest.\n$20 pre-registration; $25 day-of to enter the Canine Costume Contest for a chance to win fun prizes.  \nRSVP Now.
URL:https://vancortlandt.org/event/halloween-wags-to-witches/
CATEGORIES:Community
ATTACH;FMTTYPE=image/jpeg:https://vancortlandt.org/wp-content/uploads/2024/09/Halloween-Website.jpg
END:VEVENT
END:VCALENDAR