BEGIN:VCALENDAR
VERSION:2.0
PRODID:-//Van Cortlandt Park Alliance - ECPv6.15.20//NONSGML v1.0//EN
CALSCALE:GREGORIAN
METHOD:PUBLISH
X-WR-CALNAME:Van Cortlandt Park Alliance
X-ORIGINAL-URL:https://vancortlandt.org
X-WR-CALDESC:Events for Van Cortlandt Park Alliance
REFRESH-INTERVAL;VALUE=DURATION:PT1H
X-Robots-Tag:noindex
X-PUBLISHED-TTL:PT1H
BEGIN:VTIMEZONE
TZID:America/New_York
BEGIN:DAYLIGHT
TZOFFSETFROM:-0500
TZOFFSETTO:-0400
TZNAME:EDT
DTSTART:20230312T070000
END:DAYLIGHT
BEGIN:STANDARD
TZOFFSETFROM:-0400
TZOFFSETTO:-0500
TZNAME:EST
DTSTART:20231105T060000
END:STANDARD
BEGIN:DAYLIGHT
TZOFFSETFROM:-0500
TZOFFSETTO:-0400
TZNAME:EDT
DTSTART:20240310T070000
END:DAYLIGHT
BEGIN:STANDARD
TZOFFSETFROM:-0400
TZOFFSETTO:-0500
TZNAME:EST
DTSTART:20241103T060000
END:STANDARD
BEGIN:DAYLIGHT
TZOFFSETFROM:-0500
TZOFFSETTO:-0400
TZNAME:EDT
DTSTART:20250309T070000
END:DAYLIGHT
BEGIN:STANDARD
TZOFFSETFROM:-0400
TZOFFSETTO:-0500
TZNAME:EST
DTSTART:20251102T060000
END:STANDARD
END:VTIMEZONE
BEGIN:VEVENT
DTSTART;TZID=America/New_York:20240903T090000
DTEND;TZID=America/New_York:20240903T120000
DTSTAMP:20260421T090545
CREATED:20240719T183917Z
LAST-MODIFIED:20240726T223348Z
UID:10000941-1725354000-1725364800@vancortlandt.org
SUMMARY:Post Labor Day Morning Clean Up
DESCRIPTION:Labor Day weekend bring lots of visitors to the park. Lots of visitors make a mess! \nVolunteers are needed to help park staff tidy up.\nHelp Van Cortlandt Park staff clean up after this popular picnicking holiday. \nWe provide gloves and materials to help keep this park in tip-top shape. \nYou provide can-do spirit and sturdy shoes for walking! \nMeet at 9 am at southern end of the Van Cortlandt Golf House. \nRSVP Now.
URL:https://vancortlandt.org/event/post-labor-day-morning-clean-up/
CATEGORIES:Volunteer
ATTACH;FMTTYPE=image/jpeg:https://vancortlandt.org/wp-content/uploads/2024/07/Untitled-840-x-560-px.jpg
END:VEVENT
BEGIN:VEVENT
DTSTART;TZID=America/New_York:20240903T140000
DTEND;TZID=America/New_York:20240903T160000
DTSTAMP:20260421T090545
CREATED:20240719T184234Z
LAST-MODIFIED:20240726T223313Z
UID:10000942-1725372000-1725379200@vancortlandt.org
SUMMARY:Post Labor Day Afternoon Clean Up
DESCRIPTION:Labor Day weekend bring lots of visitors to the park. Lots of visitors make a mess! \nVolunteers are needed to help park staff tidy up.\nHelp Van Cortlandt Park staff clean up after this popular picnicking holiday. \nWe provide gloves and materials to help keep this park in tip-top shape. \nYou provide can-do spirit and sturdy shoes for walking! \nMeet at 12pm at VCPA’s Garden & Compost Site. Enter the park at Broadway and Mosholu Ave. \nRSVP Now.
URL:https://vancortlandt.org/event/post-labor-day-afternoon-clean-up/
CATEGORIES:Volunteer
ATTACH;FMTTYPE=image/jpeg:https://vancortlandt.org/wp-content/uploads/2024/07/Untitled-840-x-560-px.jpg
END:VEVENT
BEGIN:VEVENT
DTSTART;TZID=America/New_York:20240904T090000
DTEND;TZID=America/New_York:20240904T120000
DTSTAMP:20260421T090545
CREATED:20240731T175852Z
LAST-MODIFIED:20240911T112521Z
UID:10001004-1725440400-1725451200@vancortlandt.org
SUMMARY:Woodlawn Restoration Wednesdays
DESCRIPTION:Join us in the Northeast Woods to combat invasive species and prepare for fall planting. Meet us at Woodlawn Playground by the handball courts at 9 AM for a rewarding morning of ecological restoration. \nEvent Highlights: \n\nDate: Every Wednesday in August and September.\nTime: 9 AM – 12 PM\nMeeting Location: Woodlawn Playground by the handball courts\, walk to restoration site at 9:10am (so don’t be late)\nActivities: Removing invasive species like multi-flora rose\, porcelain berry\, and angelica.\nWhat to Wear: Sturdy shoes\, protective clothing\, sunscreen\, and bug spray. Bring water.\n\nRSVP Now. \nWant to bring a group?  This event is limited to small groups of 5 or less. If you would like to bring more 6 or more people please complete this form to schedule a separate event.
URL:https://vancortlandt.org/event/woodlawn-restoration-wednesdays/2024-09-04/
CATEGORIES:Volunteer
ATTACH;FMTTYPE=image/jpeg:https://vancortlandt.org/wp-content/uploads/2024/07/Untitled-design-5.jpg
END:VEVENT
BEGIN:VEVENT
DTSTART;TZID=America/New_York:20240904T140000
DTEND;TZID=America/New_York:20240904T190000
DTSTAMP:20260421T090545
CREATED:20240602T115854Z
LAST-MODIFIED:20240602T115854Z
UID:10000834-1725458400-1725476400@vancortlandt.org
SUMMARY:Youth Run Farm Stand
DESCRIPTION:We are very excited to bring our Youth Run Farmstand featuring fresh local produce and local goodies at affordable prices back! \nWednesdays 2-7pm\nfrom July 10 to October 30\nGale Place and Orloff Avenue \nWe accept WIC\, FMNP Checks\, EBT\, Snap\, Fresh Connect Checks\, Cash and Credit/Debit.
URL:https://vancortlandt.org/event/youth-run-farm-stand-3/2024-09-04/
CATEGORIES:Community
ATTACH;FMTTYPE=image/jpeg:https://vancortlandt.org/wp-content/uploads/2024/06/farmstand.2024.homepage.jpg
END:VEVENT
BEGIN:VEVENT
DTSTART;TZID=America/New_York:20240904T160000
DTEND;TZID=America/New_York:20240904T180000
DTSTAMP:20260421T090545
CREATED:20240816T124208Z
LAST-MODIFIED:20240820T131851Z
UID:10001020-1725465600-1725472800@vancortlandt.org
SUMMARY:Canine Court Volunteer Clean Ups
DESCRIPTION:Wednesdays 8/21\, 8/28 and 9/4 from 4-6pm \nNYC Parks staff does not perform daily maintenance inside dog runs. \nDaily maintenance is up to volunteers- like YOU! \nJoin us for an evening of weeding\, cleaning and spreading woodchips to spruce up Canine Court. \nVCPA provides all necessary gear. You bring the can-do attitude \nEnter the park at Broadway and W. 252nd. \nRSVP Now.
URL:https://vancortlandt.org/event/new-date-canine-court-volunteer-clean-up/2024-09-04/
CATEGORIES:Volunteer
ATTACH;FMTTYPE=image/jpeg:https://vancortlandt.org/wp-content/uploads/2023/08/Cuppek_Photo_220802_183-4-resized.jpg
END:VEVENT
BEGIN:VEVENT
DTSTART;TZID=America/New_York:20240905T160000
DTEND;TZID=America/New_York:20240905T190000
DTSTAMP:20260421T090545
CREATED:20240813T164903Z
LAST-MODIFIED:20240813T164903Z
UID:10001012-1725552000-1725562800@vancortlandt.org
SUMMARY:Chalk Art Fest
DESCRIPTION:FREE street chalk drawing event led by Ghana-born\, Bronx artist Tijay Mohammed.  \nCreate temporary art inspired by Adinkra and Uli symbols of West Africa\, which adopt the spirit of the human body using basic geometric and abstract shapes\, animals\, and floral designs. Adinkra and Uli symbols promote healing while capturing joy\, love\, freedom\, hope\, pride\, beauty\, wisdom\, strength\, leadership\, womanhood\, and power. \nIn honor of the ancestors\, the event will be held in front of the Enslaved African & Kingsbridge Burial Grounds\, located behind the Tennis Courts. Parking is available in the Van Cortlandt Golf Lot and Broadway. 
URL:https://vancortlandt.org/event/chalk-art-fest/
CATEGORIES:Community
ATTACH;FMTTYPE=image/jpeg:https://vancortlandt.org/wp-content/uploads/2024/08/Untitled-design-8.jpg
END:VEVENT
BEGIN:VEVENT
DTSTART;TZID=America/New_York:20240906T090000
DTEND;TZID=America/New_York:20240906T120000
DTSTAMP:20260421T090545
CREATED:20240808T200125Z
LAST-MODIFIED:20241026T135358Z
UID:10001035-1725613200-1725624000@vancortlandt.org
SUMMARY:Forest Fridays
DESCRIPTION:🌳 What: Forest Restoration in the Northwest Forest \n📅 When: Fridays \n⏰ Time: 9:00 AM – 12:00 PM \n📍 Where: Van Cortlandt Park – Garden & Compost Site \nDescription: \nWe will be focusing on removing invasive species like porcelain berry\, bittersweet\, mile-a-minute\, Norway Maple and more. These activities are crucial in preserving the health and biodiversity of our forest. \nActivities Include: \n\nInvasive Species Removal: Help us eradicate invasive plants that threaten our native ecosystem.\nForest Restoration: Assist in the restoration of native plants and habitats.\nHands-on Activities: Engage in practical conservation efforts that make a real difference.\n\nWhat to Bring: \n\nLong sleeves and pants\nSturdy shoes\nWater and snacks\nEnthusiasm for environmental conservation!\n\nRSVP Now!  \nWant to bring a group?  This event is limited to small groups of 5 or less. If you would like to bring more 6 or more people please complete this form to schedule a separate event.
URL:https://vancortlandt.org/event/forest-fridays-6/2024-09-06/
CATEGORIES:Volunteer
ATTACH;FMTTYPE=image/jpeg:https://vancortlandt.org/wp-content/uploads/2024/07/Untitled-design-4.jpg
END:VEVENT
BEGIN:VEVENT
DTSTART;TZID=America/New_York:20240907T130000
DTEND;TZID=America/New_York:20240907T150000
DTSTAMP:20260421T090545
CREATED:20240810T184645Z
LAST-MODIFIED:20240810T185215Z
UID:10001009-1725714000-1725721200@vancortlandt.org
SUMMARY:Caribeando Music and Dance Workshops with Juan Usera and the Sambuco Tribe
DESCRIPTION:This community interactive workshop series featuring Juan Usera and the Sambuco Tribe introduces the traditional genres of Bomba and Plena.  Participants will learn Bomba and Plena dances\, drum patterns\, piquetes (dance improvisation)\, and songs. \nWorkshops will be held on Saturdays\, September 7 and 21st from 1 to 3pm  next to the Enslaved African & Kingsbridge Burial Ground behind the Tennis Courts. \nParking is available in the Van Cortlandt Golf Lot. No driving inside the park allowed. \nThis project is made possible with funds from the Statewide Community Regrants Program\, a regrant program of the New York State Council on the Arts with support of the Office of the Governor and the New York State Legislature. \nThis program is supported\, in part\, by public funds from the New York City Department of Cultural Affairs in partnership with the New York City Council. \n 
URL:https://vancortlandt.org/event/caribeando-music-and-dance-workshops-with-juan-usera-and-the-sambuco-tribe/
CATEGORIES:Community
ATTACH;FMTTYPE=image/jpeg:https://vancortlandt.org/wp-content/uploads/2024/08/Caribeando-Music-and-Dance-Workshops-1.jpg
END:VEVENT
END:VCALENDAR