BEGIN:VCALENDAR
VERSION:2.0
PRODID:-//Van Cortlandt Park Alliance - ECPv6.15.20//NONSGML v1.0//EN
CALSCALE:GREGORIAN
METHOD:PUBLISH
X-ORIGINAL-URL:https://vancortlandt.org
X-WR-CALDESC:Events for Van Cortlandt Park Alliance
REFRESH-INTERVAL;VALUE=DURATION:PT1H
X-Robots-Tag:noindex
X-PUBLISHED-TTL:PT1H
BEGIN:VTIMEZONE
TZID:America/New_York
BEGIN:DAYLIGHT
TZOFFSETFROM:-0500
TZOFFSETTO:-0400
TZNAME:EDT
DTSTART:20230312T070000
END:DAYLIGHT
BEGIN:STANDARD
TZOFFSETFROM:-0400
TZOFFSETTO:-0500
TZNAME:EST
DTSTART:20231105T060000
END:STANDARD
BEGIN:DAYLIGHT
TZOFFSETFROM:-0500
TZOFFSETTO:-0400
TZNAME:EDT
DTSTART:20240310T070000
END:DAYLIGHT
BEGIN:STANDARD
TZOFFSETFROM:-0400
TZOFFSETTO:-0500
TZNAME:EST
DTSTART:20241103T060000
END:STANDARD
BEGIN:DAYLIGHT
TZOFFSETFROM:-0500
TZOFFSETTO:-0400
TZNAME:EDT
DTSTART:20250309T070000
END:DAYLIGHT
BEGIN:STANDARD
TZOFFSETFROM:-0400
TZOFFSETTO:-0500
TZNAME:EST
DTSTART:20251102T060000
END:STANDARD
END:VTIMEZONE
BEGIN:VEVENT
DTSTART;TZID=America/New_York:20240507T090000
DTEND;TZID=America/New_York:20240507T120000
DTSTAMP:20260425T163923
CREATED:20240430T175315Z
LAST-MODIFIED:20240430T175315Z
UID:10000794-1715072400-1715083200@vancortlandt.org
SUMMARY:Wetland & Floodplain Volunteer Days
DESCRIPTION:Dates: Tuesday May 7 and Wednesday May 8\, 15\, 22 and 29\nTime: 9am to 12pm\nMeeting Location: Van Cortlandt Golf House \nInitially\, we will focus on various tasks within the immediate floodplain (final spring plantings\, mile-a-minute\, garlic mustard\, norway maple removal) as we keep an eye out for the start of the water chestnut removal season. As the appropriate time to begin removal approaches\, we will gear up with waders and gloves to tackle this invasive plant directly in the water. \nNo previous experience is required\, and we will provide all necessary equipment. Just bring your adventurous spirit\, plenty of water\, a hat\, and an extra pair of socks. \nThis is a great opportunity to engage in conservation work\, learn more about your local ecosystem\, and make a significant impact on your park. We look forward to seeing you there and jumping into the water together when the time is right! \nRSVP Now.
URL:https://vancortlandt.org/event/wetland-floodplain-volunteer-days/2024-05-07/
CATEGORIES:Volunteer
ATTACH;FMTTYPE=image/png:https://vancortlandt.org/wp-content/uploads/2022/05/water-chestnut-for-web.png
END:VEVENT
BEGIN:VEVENT
DTSTART;TZID=America/New_York:20240508T090000
DTEND;TZID=America/New_York:20240508T120000
DTSTAMP:20260425T163923
CREATED:20240430T175315Z
LAST-MODIFIED:20240430T175315Z
UID:10000795-1715158800-1715169600@vancortlandt.org
SUMMARY:Wetland & Floodplain Volunteer Days
DESCRIPTION:Dates: Tuesday May 7 and Wednesday May 8\, 15\, 22 and 29\nTime: 9am to 12pm\nMeeting Location: Van Cortlandt Golf House \nInitially\, we will focus on various tasks within the immediate floodplain (final spring plantings\, mile-a-minute\, garlic mustard\, norway maple removal) as we keep an eye out for the start of the water chestnut removal season. As the appropriate time to begin removal approaches\, we will gear up with waders and gloves to tackle this invasive plant directly in the water. \nNo previous experience is required\, and we will provide all necessary equipment. Just bring your adventurous spirit\, plenty of water\, a hat\, and an extra pair of socks. \nThis is a great opportunity to engage in conservation work\, learn more about your local ecosystem\, and make a significant impact on your park. We look forward to seeing you there and jumping into the water together when the time is right! \nRSVP Now.
URL:https://vancortlandt.org/event/wetland-floodplain-volunteer-days/2024-05-08/
CATEGORIES:Volunteer
ATTACH;FMTTYPE=image/png:https://vancortlandt.org/wp-content/uploads/2022/05/water-chestnut-for-web.png
END:VEVENT
BEGIN:VEVENT
DTSTART;TZID=America/New_York:20240510T090000
DTEND;TZID=America/New_York:20240510T120000
DTSTAMP:20260425T163923
CREATED:20240226T171546Z
LAST-MODIFIED:20240429T204351Z
UID:10000785-1715331600-1715342400@vancortlandt.org
SUMMARY:Forest Restoration Fridays
DESCRIPTION:Join us at Van Cortlandt Park for a meaningful morning of forest restoration! Dive into spring by helping us remove invasive species like multi-flora rose and garlic mustard. Gear up for some hands-on conservation work and learn about the forest’s ecosystem. \nWhen & Where: \n\nDate: Fridays March 29 and April 5 & 19\nTime: 9 AM – Noon\nLocation: VCPA Garden Education and Compost Site\, across from Riverdale Stables\n\nActivities Include: \n\nInvasive species removal\nEducational insights on forest health\nCommunity engagement\n\nWhat to Bring: \n\nSturdy shoes and protective clothing\nWater/tea and snacks\n\nWe Provide: \n\nTools and gloves\nGuidance and support\n\nGet Involved:\nReady to make a difference? Grab your gloves and join us in preserving the beauty of Van Cortlandt Park. \nRSVP Now.
URL:https://vancortlandt.org/event/forest-restoration-fridays-9/2024-05-10/
ATTACH;FMTTYPE=image/jpeg:https://vancortlandt.org/wp-content/uploads/2024/02/felicity-for-web.jpg
END:VEVENT
BEGIN:VEVENT
DTSTART;TZID=America/New_York:20240511T090000
DTEND;TZID=America/New_York:20240511T103000
DTSTAMP:20260425T163923
CREATED:20240311T192150Z
LAST-MODIFIED:20240311T192909Z
UID:10000753-1715418000-1715423400@vancortlandt.org
SUMMARY:Birding with NYC Audubon
DESCRIPTION:Van Cortlandt Park Alliance and New York City Audubon invite you to join us during five Saturday sessions of birding in the park. \nExplore Van Cortlandt Park’s ecologically diverse grounds and celebrate a long tradition of birding in the park. We will look for various species of resident and migratory birds and discuss a wide range of avian topics. Each walk will be led by a New York City Audubon guide. \nAdvance registration is required. You must register separately for each date you would like to attend. \nEvents are on Saturdays meeting at 9am on the following dates: \n\nApril 6\nApril 13\nMay 11 (World Migratory Bird Day)\nMay 18\nJune 15\n\nNote: We do not provide binoculars and suggest that attendees bring their own. \nWant us to continue birding programs in the future? Please make a donation during checkout. All donations made will be used to continue birding programs. \nRSVP Now! \nAs space is limited\, if you are not able to attend please let us know ASAP so we can fill in your spot by emailing info@vancortlandt.org. \nPhoto by Jack Rothman
URL:https://vancortlandt.org/event/birding-with-nyc-audubon-3/2024-05-11/
CATEGORIES:Community
ATTACH;FMTTYPE=image/png:https://vancortlandt.org/wp-content/uploads/2023/02/Birdwalk-photo-by-Jack-Rothman-for-website.png
END:VEVENT
BEGIN:VEVENT
DTSTART;TZID=America/New_York:20240511T100000
DTEND;TZID=America/New_York:20240511T120000
DTSTAMP:20260425T163923
CREATED:20240311T193822Z
LAST-MODIFIED:20240311T210644Z
UID:10000757-1715421600-1715428800@vancortlandt.org
SUMMARY:Super Seedlings
DESCRIPTION:Super Seedlings is a free\, drop-in gardening program for kids ages 3-7 and their caregivers. \nEach Saturday session will have a fun theme to explore\, nature crafts\, planting\, soil digging\, and more! \nCome once\, twice\, or all five weeks for some playing and planting! We hope to see you there! \n📅 Dates: \n\nSaturday\, May 4th\nSaturday\, May 11th\nSaturday\, May 18th\nSaturday\, June 1st\nSaturday\, June 8th\n\n🕐 Time: 10 AM – 12 PM \n📍 Location: The VCPA Compost Site and Education Garden is located at: Mosholu Avenue and Broadway (next to the Horse Stables). \nRSVP Now! \nDrop-ins are welcome\, but advance registration is recommended. \nPlease e-mail us with any questions at gardening@vancortlandt.org
URL:https://vancortlandt.org/event/super-seedlings/2024-05-11/
CATEGORIES:Community
ATTACH;FMTTYPE=image/jpeg:https://vancortlandt.org/wp-content/uploads/2024/03/Super-Seedlings-Event-Image-1.jpg
END:VEVENT
END:VCALENDAR