BEGIN:VCALENDAR
VERSION:2.0
PRODID:-//Van Cortlandt Park Alliance - ECPv6.15.20//NONSGML v1.0//EN
CALSCALE:GREGORIAN
METHOD:PUBLISH
X-ORIGINAL-URL:https://vancortlandt.org
X-WR-CALDESC:Events for Van Cortlandt Park Alliance
REFRESH-INTERVAL;VALUE=DURATION:PT1H
X-Robots-Tag:noindex
X-PUBLISHED-TTL:PT1H
BEGIN:VTIMEZONE
TZID:America/New_York
BEGIN:DAYLIGHT
TZOFFSETFROM:-0500
TZOFFSETTO:-0400
TZNAME:EDT
DTSTART:20220313T070000
END:DAYLIGHT
BEGIN:STANDARD
TZOFFSETFROM:-0400
TZOFFSETTO:-0500
TZNAME:EST
DTSTART:20221106T060000
END:STANDARD
BEGIN:DAYLIGHT
TZOFFSETFROM:-0500
TZOFFSETTO:-0400
TZNAME:EDT
DTSTART:20230312T070000
END:DAYLIGHT
BEGIN:STANDARD
TZOFFSETFROM:-0400
TZOFFSETTO:-0500
TZNAME:EST
DTSTART:20231105T060000
END:STANDARD
BEGIN:DAYLIGHT
TZOFFSETFROM:-0500
TZOFFSETTO:-0400
TZNAME:EDT
DTSTART:20240310T070000
END:DAYLIGHT
BEGIN:STANDARD
TZOFFSETFROM:-0400
TZOFFSETTO:-0500
TZNAME:EST
DTSTART:20241103T060000
END:STANDARD
END:VTIMEZONE
BEGIN:VEVENT
DTSTART;TZID=America/New_York:20230426T090000
DTEND;TZID=America/New_York:20230426T120000
DTSTAMP:20260420T071952
CREATED:20230417T153449Z
LAST-MODIFIED:20230417T153449Z
UID:10000479-1682499600-1682510400@vancortlandt.org
SUMMARY:Wetland Wesdnesdays
DESCRIPTION:Join us for Wetland Wednesdays\, where we volunteer to improve the wetland ecosystems in Van Cortlandt Park. \nApril is a great time to get out and enjoy the warmer air as the park is waking up from winter. Projects will be focused on invasive removal. Tools and gloves will be provided. \nMeeting Location: Van Cortlandt Park Golf Clubhouse. \nPlease bring plenty of water\, a hat\, and an extra pair of socks. Wear sunscreen. Wear clothes and shoes you don’t mind getting dirty. The wetland may be… well\, a little wet (in places). \nRSVP Now. \nPlease Note: There will be no event on April 19.
URL:https://vancortlandt.org/event/wetland-wesdnesdays/
CATEGORIES:Volunteer
ATTACH;FMTTYPE=image/png:https://vancortlandt.org/wp-content/uploads/2023/03/turtle-brook-for-website.png
END:VEVENT
BEGIN:VEVENT
DTSTART;TZID=America/New_York:20230428T090000
DTEND;TZID=America/New_York:20230428T120000
DTSTAMP:20260420T071952
CREATED:20230324T230241Z
LAST-MODIFIED:20230324T230241Z
UID:10000464-1682672400-1682683200@vancortlandt.org
SUMMARY:April Forest Restoration Fridays
DESCRIPTION:Join Van Cortlandt Park Alliance at one of our Forest Restoration Friday events. A weekly program that allows community members to engage with VCP staff in maintaining the forested landscape here in the Bronx.  \nAttendees assist with seasonal work such as removal of trees and shrubs\, preparing planting sites\, planting\, and a wide assortment of other projects. Forest Restoration Fridays are a great way to learn about forest ecology\, and get your hands dirty in protecting this wonderful resource! \nRSVP Now. \nPlease Note: There will be no session on Friday April 14.
URL:https://vancortlandt.org/event/april-forest-restoration-fridays/2023-04-28/
CATEGORIES:Volunteer
ATTACH;FMTTYPE=image/png:https://vancortlandt.org/wp-content/uploads/2023/03/forest-fridays.png
END:VEVENT
END:VCALENDAR