BEGIN:VCALENDAR
VERSION:2.0
PRODID:-//Van Cortlandt Park Alliance - ECPv6.15.20//NONSGML v1.0//EN
CALSCALE:GREGORIAN
METHOD:PUBLISH
X-ORIGINAL-URL:https://vancortlandt.org
X-WR-CALDESC:Events for Van Cortlandt Park Alliance
REFRESH-INTERVAL;VALUE=DURATION:PT1H
X-Robots-Tag:noindex
X-PUBLISHED-TTL:PT1H
BEGIN:VTIMEZONE
TZID:America/New_York
BEGIN:DAYLIGHT
TZOFFSETFROM:-0500
TZOFFSETTO:-0400
TZNAME:EDT
DTSTART:20210314T070000
END:DAYLIGHT
BEGIN:STANDARD
TZOFFSETFROM:-0400
TZOFFSETTO:-0500
TZNAME:EST
DTSTART:20211107T060000
END:STANDARD
BEGIN:DAYLIGHT
TZOFFSETFROM:-0500
TZOFFSETTO:-0400
TZNAME:EDT
DTSTART:20220313T070000
END:DAYLIGHT
BEGIN:STANDARD
TZOFFSETFROM:-0400
TZOFFSETTO:-0500
TZNAME:EST
DTSTART:20221106T060000
END:STANDARD
BEGIN:DAYLIGHT
TZOFFSETFROM:-0500
TZOFFSETTO:-0400
TZNAME:EDT
DTSTART:20230312T070000
END:DAYLIGHT
BEGIN:STANDARD
TZOFFSETFROM:-0400
TZOFFSETTO:-0500
TZNAME:EST
DTSTART:20231105T060000
END:STANDARD
END:VTIMEZONE
BEGIN:VEVENT
DTSTART;TZID=America/New_York:20221025T090000
DTEND;TZID=America/New_York:20221025T103000
DTSTAMP:20260425T203002
CREATED:20220930T230712Z
LAST-MODIFIED:20221004T194147Z
UID:10000184-1666688400-1666693800@vancortlandt.org
SUMMARY:Birdwalks with NYC Audubon- Special Tuesday Date!
DESCRIPTION:Explore Van Cortlandt Park’s ecologically diverse grounds and celebrate a long tradition of birding in the park. We will look for various species of resident and migratory birds and discuss a wide range of avian topics. Each walk will be led by a New York City Audubon guide. \nAdvance registration is required. You must register separately for each date you would like to attend. \nFall Bird Walks Offered in Memory of Henry Samol\, a lifelong bird lover. \nRSVP Required. \n 
URL:https://vancortlandt.org/event/birdwalks-with-nyc-audubon-special-tuesday-date/
CATEGORIES:Hikes
ATTACH;FMTTYPE=image/jpeg:https://vancortlandt.org/wp-content/uploads/2020/09/APA_2015_JohnLarson_279414_Cedar_Waxwing_KK-1.jpg
END:VEVENT
BEGIN:VEVENT
DTSTART;TZID=America/New_York:20221025T100000
DTEND;TZID=America/New_York:20221025T130000
DTSTAMP:20260425T203002
CREATED:20220826T160736Z
LAST-MODIFIED:20221121T211554Z
UID:10000162-1666692000-1666702800@vancortlandt.org
SUMMARY:Garden Crew Volunteer Days
DESCRIPTION:Please Note: November  22nd has been canceled. \nWe are launching a new Garden Crew! Come join VCPA staff in rebuilding and maintaining our Educational Garden and Compost Site. In addition to weeding\, watering and harvesting produce\, garden crew members will learn how to care for the garden\, maintain compost bins and help prep our site for winter. No gardening experience needed. 18 and older. \nVCPA Garden and Educational Garden is located next to the Riverdale Stables.  Enter the park at Broadway and Mosholu Ave. \nRSVP Now.
URL:https://vancortlandt.org/event/garden-crew-volunteer-days/2022-10-25/
CATEGORIES:Volunteer
ATTACH;FMTTYPE=image/png:https://vancortlandt.org/wp-content/uploads/2022/06/Garden-for-website.png
END:VEVENT
BEGIN:VEVENT
DTSTART;TZID=America/New_York:20221026T090000
DTEND;TZID=America/New_York:20221026T120000
DTSTAMP:20260425T203002
CREATED:20220922T191437Z
LAST-MODIFIED:20220922T191536Z
UID:10000177-1666774800-1666785600@vancortlandt.org
SUMMARY:Trail Work Wednesdays
DESCRIPTION:Join the Van Cortlandt Park Alliance in maintaining and repairing our vast network of trails! \nMeet us at the VCPA Compost and Garden site (right across from Riverdale Stables) and we will walk to our worksite in the park together.  \nWe are working mostly on the Cross Country Trail this October. Make sure to wear long pants\, sturdy closed-toe shoes\, and bring lots of water! All other tools will be provided. No prior experience needed.  \nRSVP Now.
URL:https://vancortlandt.org/event/trail-work-wednesday/2022-10-26/
CATEGORIES:Volunteer
ATTACH;FMTTYPE=image/png:https://vancortlandt.org/wp-content/uploads/2022/07/trail-weds.png
END:VEVENT
BEGIN:VEVENT
DTSTART;TZID=America/New_York:20221028T090000
DTEND;TZID=America/New_York:20221028T120000
DTSTAMP:20260425T203002
CREATED:20220922T191915Z
LAST-MODIFIED:20220927T180552Z
UID:10000182-1666947600-1666958400@vancortlandt.org
SUMMARY:Forest Restoration Fridays
DESCRIPTION:With 640 acres of forest and wetlands\, Van Cortlandt Park could use your help! \nMeet us at the VCPA Compost and Garden site (right across from Riverdale Stables) and we will walk to our worksite in the park together. \nWe are focusing on removing invasive species this October. Make sure to wear long pants\, sturdy closed-toe shoes\, and bring lots of water! All other tools will be provided. No prior experience needed. \nRSVP Now.
URL:https://vancortlandt.org/event/forest-restoration-fridays-7/2022-10-28/
CATEGORIES:Volunteer
ATTACH;FMTTYPE=image/png:https://vancortlandt.org/wp-content/uploads/2022/05/forest-fridays-for-website.png
END:VEVENT
END:VCALENDAR