BEGIN:VCALENDAR
VERSION:2.0
PRODID:-//Van Cortlandt Park Alliance - ECPv6.15.20//NONSGML v1.0//EN
CALSCALE:GREGORIAN
METHOD:PUBLISH
X-ORIGINAL-URL:https://vancortlandt.org
X-WR-CALDESC:Events for Van Cortlandt Park Alliance
REFRESH-INTERVAL;VALUE=DURATION:PT1H
X-Robots-Tag:noindex
X-PUBLISHED-TTL:PT1H
BEGIN:VTIMEZONE
TZID:America/New_York
BEGIN:DAYLIGHT
TZOFFSETFROM:-0500
TZOFFSETTO:-0400
TZNAME:EDT
DTSTART:20210314T070000
END:DAYLIGHT
BEGIN:STANDARD
TZOFFSETFROM:-0400
TZOFFSETTO:-0500
TZNAME:EST
DTSTART:20211107T060000
END:STANDARD
BEGIN:DAYLIGHT
TZOFFSETFROM:-0500
TZOFFSETTO:-0400
TZNAME:EDT
DTSTART:20220313T070000
END:DAYLIGHT
BEGIN:STANDARD
TZOFFSETFROM:-0400
TZOFFSETTO:-0500
TZNAME:EST
DTSTART:20221106T060000
END:STANDARD
BEGIN:DAYLIGHT
TZOFFSETFROM:-0500
TZOFFSETTO:-0400
TZNAME:EDT
DTSTART:20230312T070000
END:DAYLIGHT
BEGIN:STANDARD
TZOFFSETFROM:-0400
TZOFFSETTO:-0500
TZNAME:EST
DTSTART:20231105T060000
END:STANDARD
END:VTIMEZONE
BEGIN:VEVENT
DTSTART;TZID=America/New_York:20220304T080000
DTEND;TZID=America/New_York:20221015T170000
DTSTAMP:20260421T164037
CREATED:20220218T180857Z
LAST-MODIFIED:20220922T192232Z
UID:10000221-1646380800-1665853200@vancortlandt.org
SUMMARY:22 in '22
DESCRIPTION:Take the challenge while supporting the work of Van Cortlandt Park Alliance! Hike 22 miles in Van Cortlandt Park anytime during 2022\, post on social media from the park to spread the word\, and wear your 22 in ‘22 Finisher’s Patch with pride once you attain your goal (because you earned it!). VCPA will provide you with route options within Van Cortlandt Park\, the third largest park in NYC\, but you pick your method (hike\, run\, stroll\, skip) and you pick when (as long as you complete it all by December 31\, 2022). Van Cortlandt Park\, located in the Northwest Bronx\, has over 20 miles of trails of various levels of difficulty. If any of the suggested trails are too strenuous\, you can substitute as you like. The specific trails do not matter as much as hitting the goal of 22 miles.  Registration: $40 for adults/$25 kids/$35 members.
URL:https://vancortlandt.org/event/22-in-22/
CATEGORIES:Community,Hikes
ATTACH;FMTTYPE=image/png:https://vancortlandt.org/wp-content/uploads/2022/02/22-in-22-for-website.png
END:VEVENT
BEGIN:VEVENT
DTSTART;TZID=America/New_York:20220927T100000
DTEND;TZID=America/New_York:20220927T130000
DTSTAMP:20260421T164037
CREATED:20220826T160736Z
LAST-MODIFIED:20221121T211554Z
UID:10000160-1664272800-1664283600@vancortlandt.org
SUMMARY:Garden Crew Volunteer Days
DESCRIPTION:Please Note: November  22nd has been canceled. \nWe are launching a new Garden Crew! Come join VCPA staff in rebuilding and maintaining our Educational Garden and Compost Site. In addition to weeding\, watering and harvesting produce\, garden crew members will learn how to care for the garden\, maintain compost bins and help prep our site for winter. No gardening experience needed. 18 and older. \nVCPA Garden and Educational Garden is located next to the Riverdale Stables.  Enter the park at Broadway and Mosholu Ave. \nRSVP Now.
URL:https://vancortlandt.org/event/garden-crew-volunteer-days/2022-09-27/
CATEGORIES:Volunteer
ATTACH;FMTTYPE=image/png:https://vancortlandt.org/wp-content/uploads/2022/06/Garden-for-website.png
END:VEVENT
BEGIN:VEVENT
DTSTART;TZID=America/New_York:20220928T090000
DTEND;TZID=America/New_York:20220928T120000
DTSTAMP:20260421T164037
CREATED:20220726T211533Z
LAST-MODIFIED:20220824T213817Z
UID:10000317-1664355600-1664366400@vancortlandt.org
SUMMARY:Trail Work Wednesdays
DESCRIPTION:Miles of trails traverse the natural areas of Van Cortlandt Park\, and they are in need of some regular maintenance. \nVolunteers will assist staff on maintenance of the cross country course\, and other trails throughout the park. This work includes water bar and check step maintenance\, corridor clearing\, raking\, etc. No prior experience is needed. Bring along a water bottle and wear sturdy closed-toed shoes and long pants. \nWe will meet in front of the Educational Garden and Compost Site\, located right nearby the Riverdale Stables parking lot. Enter the park at Mosholu Avenue and Broadway intersection\, and the garden is on the left prior to reaching the Stables parking lot. \nRSVP Now.
URL:https://vancortlandt.org/event/trail-work-wednesdays-2/2022-09-28/
CATEGORIES:Volunteer
ATTACH;FMTTYPE=image/png:https://vancortlandt.org/wp-content/uploads/2022/07/trail-weds.png
END:VEVENT
BEGIN:VEVENT
DTSTART;TZID=America/New_York:20220930T090000
DTEND;TZID=America/New_York:20220930T120000
DTSTAMP:20260421T164037
CREATED:20220824T213100Z
LAST-MODIFIED:20220824T220221Z
UID:10000333-1664528400-1664539200@vancortlandt.org
SUMMARY:Forest Restoration Fridays in Woodlawn
DESCRIPTION:With 640 acres of forest and wetlands\, Van Cortlandt Park could use your help!\n\n  \nNon-indigenous plant species such as angelica tree (Aralia elata)\, bittersweet (Celastrus orbiculatus)\, and alder buckthorn (Frangula alnus) threaten the health of the forest in the Northeastern section of Van Cortlandt Park. Come learn out why\, and help VCPA staff remove these species to prepare for a planting event in October.\n\n  \nWe will meet in front of the Woodlawn Playground at 9am\, and promptly walk into the woods from there. The walk in to the worksite is approximately 5 minutes long. VCPA will provide gloves and tools. Please wear long pants and closed toe shoes\, and bring plenty of water.\n\n  \nMeet at Woodlawn Playground- just south of Van Cortlandt Park East and Kepler Avenue.\n\n  \nRSVP Now.
URL:https://vancortlandt.org/event/forest-restoration-fridays-in-woodlawn/2022-09-30/
CATEGORIES:Volunteer
ATTACH;FMTTYPE=image/png:https://vancortlandt.org/wp-content/uploads/2022/05/forest-fridays-for-website.png
END:VEVENT
END:VCALENDAR