BEGIN:VCALENDAR
VERSION:2.0
PRODID:-//Van Cortlandt Park Alliance - ECPv6.15.20//NONSGML v1.0//EN
CALSCALE:GREGORIAN
METHOD:PUBLISH
X-WR-CALNAME:Van Cortlandt Park Alliance
X-ORIGINAL-URL:https://vancortlandt.org
X-WR-CALDESC:Events for Van Cortlandt Park Alliance
REFRESH-INTERVAL;VALUE=DURATION:PT1H
X-Robots-Tag:noindex
X-PUBLISHED-TTL:PT1H
BEGIN:VTIMEZONE
TZID:America/New_York
BEGIN:DAYLIGHT
TZOFFSETFROM:-0500
TZOFFSETTO:-0400
TZNAME:EDT
DTSTART:20210314T070000
END:DAYLIGHT
BEGIN:STANDARD
TZOFFSETFROM:-0400
TZOFFSETTO:-0500
TZNAME:EST
DTSTART:20211107T060000
END:STANDARD
BEGIN:DAYLIGHT
TZOFFSETFROM:-0500
TZOFFSETTO:-0400
TZNAME:EDT
DTSTART:20220313T070000
END:DAYLIGHT
BEGIN:STANDARD
TZOFFSETFROM:-0400
TZOFFSETTO:-0500
TZNAME:EST
DTSTART:20221106T060000
END:STANDARD
BEGIN:DAYLIGHT
TZOFFSETFROM:-0500
TZOFFSETTO:-0400
TZNAME:EDT
DTSTART:20230312T070000
END:DAYLIGHT
BEGIN:STANDARD
TZOFFSETFROM:-0400
TZOFFSETTO:-0500
TZNAME:EST
DTSTART:20231105T060000
END:STANDARD
END:VTIMEZONE
BEGIN:VEVENT
DTSTART;TZID=America/New_York:20220304T080000
DTEND;TZID=America/New_York:20221015T170000
DTSTAMP:20260419T204842
CREATED:20220218T180857Z
LAST-MODIFIED:20220922T192232Z
UID:10000221-1646380800-1665853200@vancortlandt.org
SUMMARY:22 in '22
DESCRIPTION:Take the challenge while supporting the work of Van Cortlandt Park Alliance! Hike 22 miles in Van Cortlandt Park anytime during 2022\, post on social media from the park to spread the word\, and wear your 22 in ‘22 Finisher’s Patch with pride once you attain your goal (because you earned it!). VCPA will provide you with route options within Van Cortlandt Park\, the third largest park in NYC\, but you pick your method (hike\, run\, stroll\, skip) and you pick when (as long as you complete it all by December 31\, 2022). Van Cortlandt Park\, located in the Northwest Bronx\, has over 20 miles of trails of various levels of difficulty. If any of the suggested trails are too strenuous\, you can substitute as you like. The specific trails do not matter as much as hitting the goal of 22 miles.  Registration: $40 for adults/$25 kids/$35 members.
URL:https://vancortlandt.org/event/22-in-22/
CATEGORIES:Community,Hikes
ATTACH;FMTTYPE=image/png:https://vancortlandt.org/wp-content/uploads/2022/02/22-in-22-for-website.png
END:VEVENT
BEGIN:VEVENT
DTSTART;TZID=America/New_York:20220601T183000
DTEND;TZID=America/New_York:20220601T203000
DTSTAMP:20260419T204842
CREATED:20220415T185852Z
LAST-MODIFIED:20220419T165611Z
UID:10000257-1654108200-1654115400@vancortlandt.org
SUMMARY:Barefoot Dancing
DESCRIPTION:Featuring Quenia Ribeiro with Live Drumming performing Samba dance from Brazil. This workshop and performance will consist of various forms of Samba from Bahia and Rio De Janeiro – including Samba Reggae\, Samba Afro\, Samba No Pe\, Miudinho\, and Samba De Roda.  \nThis cultural enrichment event is free\, fun\, and for the whole family. All ages are welcome! \nSpecial Thank You to Abada-Capoeira Bronx. \nThis program is supported\, in part\, by public funds from the New York City Department of Cultural Affairs in partnership with the New York City Council. \nRSVP Now.
URL:https://vancortlandt.org/event/barefoot-dancing-3/
LOCATION:Van Cortlandt Park Golf House\, 115 Van Cortlandt Park West\, Bronx\, NY\, 10471\, United States
ATTACH;FMTTYPE=image/jpeg:https://vancortlandt.org/wp-content/uploads/2022/03/barefoot2022.website-1.jpg
END:VEVENT
BEGIN:VEVENT
DTSTART;TZID=America/New_York:20220603T090000
DTEND;TZID=America/New_York:20220603T120000
DTSTAMP:20260419T204842
CREATED:20220527T174705Z
LAST-MODIFIED:20220527T174705Z
UID:10000267-1654246800-1654257600@vancortlandt.org
SUMMARY:Forest Restoration Fridays
DESCRIPTION:Every Friday during June\, volunteers can join VCPA staff in maintaining the floodplain forest along Tibbetts Brook in Van Cortlandt Park. Work will entail removal of non-indigenous plant species such as mile-a-minute\, mugwort\, multiflora rose\, and bush honeysuckle. \nVolunteers can meet VCPA staff outside the Van Cortlandt Park Golf Course Clubhouse at 9am. We will provide gloves and any tools needed for the project. Make sure to where long pants\, closed-toe shoes\, and bring along plenty of water. We look forward to seeing you out in the Park! \nRSVP Now. \nPlease be advised as of 12/27/21\, a vaccine mandate has been ordered by the City of New York. In order to participate in Van Cortlandt Park Alliance volunteer events\, all volunteers must be vaccinated.
URL:https://vancortlandt.org/event/forest-restoration-fridays-4/2022-06-03/
CATEGORIES:Volunteer
ATTACH;FMTTYPE=image/png:https://vancortlandt.org/wp-content/uploads/2022/05/forest-fridays-for-website.png
END:VEVENT
BEGIN:VEVENT
DTSTART;TZID=America/New_York:20220604T090000
DTEND;TZID=America/New_York:20220604T103000
DTSTAMP:20260419T204842
CREATED:20220307T214012Z
LAST-MODIFIED:20220307T214012Z
UID:10000250-1654333200-1654338600@vancortlandt.org
SUMMARY:Birdwalks with NYC Audubon
DESCRIPTION:Van Cortlandt Park Alliance and New York City Audubon invite you to join us for weekly birdwalks this spring. \nExplore Van Cortlandt Park’s ecologically diverse grounds and celebrate a long tradition of birding in the park. We will look for various species of resident and migratory birds and discuss a wide range of avian topics. Each walk will be lead by a New York City Audubon guide.  \nAdvance registration is required and limited to 20 people per week. \nPhoto by John Larson\, Audubon Photography Awards 2015.
URL:https://vancortlandt.org/event/birdwalks-with-nyc-audubon-2/2022-06-04/
CATEGORIES:Community
ATTACH;FMTTYPE=image/jpeg:https://vancortlandt.org/wp-content/uploads/2020/09/APA_2015_JohnLarson_279414_Cedar_Waxwing_KK-1.jpg
END:VEVENT
END:VCALENDAR