BEGIN:VCALENDAR
VERSION:2.0
PRODID:-//Van Cortlandt Park Alliance - ECPv6.15.20//NONSGML v1.0//EN
CALSCALE:GREGORIAN
METHOD:PUBLISH
X-ORIGINAL-URL:https://vancortlandt.org
X-WR-CALDESC:Events for Van Cortlandt Park Alliance
REFRESH-INTERVAL;VALUE=DURATION:PT1H
X-Robots-Tag:noindex
X-PUBLISHED-TTL:PT1H
BEGIN:VTIMEZONE
TZID:America/New_York
BEGIN:DAYLIGHT
TZOFFSETFROM:-0500
TZOFFSETTO:-0400
TZNAME:EDT
DTSTART:20250309T070000
END:DAYLIGHT
BEGIN:STANDARD
TZOFFSETFROM:-0400
TZOFFSETTO:-0500
TZNAME:EST
DTSTART:20251102T060000
END:STANDARD
BEGIN:DAYLIGHT
TZOFFSETFROM:-0500
TZOFFSETTO:-0400
TZNAME:EDT
DTSTART:20260308T070000
END:DAYLIGHT
BEGIN:STANDARD
TZOFFSETFROM:-0400
TZOFFSETTO:-0500
TZNAME:EST
DTSTART:20261101T060000
END:STANDARD
BEGIN:DAYLIGHT
TZOFFSETFROM:-0500
TZOFFSETTO:-0400
TZNAME:EDT
DTSTART:20270314T070000
END:DAYLIGHT
BEGIN:STANDARD
TZOFFSETFROM:-0400
TZOFFSETTO:-0500
TZNAME:EST
DTSTART:20271107T060000
END:STANDARD
END:VTIMEZONE
BEGIN:VEVENT
DTSTART;TZID=America/New_York:20260502T120000
DTEND;TZID=America/New_York:20260502T160000
DTSTAMP:20260419T155724
CREATED:20260406T122133Z
LAST-MODIFIED:20260407T202509Z
UID:10002376-1777723200-1777737600@vancortlandt.org
SUMMARY:Pinkster Festival
DESCRIPTION:Hosted by Van Cortlandt Park Alliance\, Van Cortlandt House Museum and Kingsbridge Historical Society. \n\n\n\n\nCelebrate the rich cultural heritage of Pinkster at this year’s Pinkster Festival hosted by the Van Cortlandt Park Alliance\, Van Cortlandt House Museum\, and Kingsbridge Historical Society. \nJoin us on the picturesque lawn of the Van Cortlandt House Museum for a day filled with vibrant festivities\, live music\, engaging performances\, and immersive experiences. \n12PM Tours \n1PM Live Music \n2PM Storytelling \n3PM The Story of Pinkster \n4PM Libations at the Enslaved African Burial Ground \n\nChief Baba Neil Clarke\, Master Percussionist \nThe Pinkster Players \nApril Armstrong\, Master Storyteller \nTijay Mohammed\, Artist \n\nPLUS: Food for sale! Art-Making! \nRSVP NOW \nWHAT IS PINKSTER? \nOnce a major holiday in 17th century New York\, Pinkster is the Dutch name for the Christian event of Pentecost. \nFor enslaved and free people of African descent\, Pinkster morphed into a unique holiday that incorporated African rituals\, traditions\, and pride. It is considered New York’s first African American holiday! \nTo learn more about Pinkster watch this video of captivating discussion with local historians\, Lavada Nahon and Chief Baba Neil Clarke\, as they unravel the significance of Pinkster\, exploring its cultural\, social\, and historical importance. \nSupported by: \nNYC Councilmember Eric Dinowitz\nNYC Department of Cultural Affairs\nNYC Department of Youth and Community Development\nNYS Council on the Arts \nThis program is supported\, in part\, by public funds from the New York City Department of Cultural Affairs in partnership with the New York City Council. \nThis event is made possible by the New York State Council on the Arts with the support of the Office of the Governor and the New York State Legislature.
URL:https://vancortlandt.org/event/pinkster-festival-3/
CATEGORIES:Community
ATTACH;FMTTYPE=image/jpeg:https://vancortlandt.org/wp-content/uploads/2026/04/Pinkster.web_.2026.jpg
END:VEVENT
BEGIN:VEVENT
DTSTART;TZID=America/New_York:20260509T140000
DTEND;TZID=America/New_York:20260509T160000
DTSTAMP:20260419T155724
CREATED:20260407T145629Z
LAST-MODIFIED:20260407T145629Z
UID:10002377-1778335200-1778342400@vancortlandt.org
SUMMARY:Caribeando Community Music and Dance Workshops
DESCRIPTION:Caribbean Music and Dance workshops with Juan Usera and the Sambuco Tribe in Van Cortlandt Park. \nSaturdays May\, 9\, June 6 and August 22 from 2-4pm \nFollowing their inspiring Caribeando performance at the Hostos Center for the Arts and Culture last May\, Juan Usera and the Sambuco Tribe is offering an interactive Caribbean Music and Dance workshop in Van Cortlandt Park for the Bronx community. \nThe Caribeando Community Music and Dance Workshop provides an excellent opportunity to learn and practice Caribbean musical and dance traditions rooted in African heritage. Participants will learn Bomba\, Plena\, Guaracha\, Cha-cha-cha\, Merengue\, and more. All ages\, abilities\, and skill levels are welcome to explore the basic rhythms\, steps\, call-and-response interactions\, and shared community joy. \nWorkshop will be held next to the Enslaved African & Kingsbridge Burial Ground behind the Tennis Courts. \nParking is available in the Van Cortlandt Golf Lot. No driving inside the park allowed. \nRSVP Now. \nThis series is sponsored by The NYC Green Fund Grassroots Grant Program. \nThis series is supported\, in part\, by public funds from the New York City Department of Cultural Affairs in partnership with the New York City Council.
URL:https://vancortlandt.org/event/caribeando-community-music-and-dance-workshops-4/2026-05-09/
CATEGORIES:Community
ATTACH;FMTTYPE=image/jpeg:https://vancortlandt.org/wp-content/uploads/2026/04/Caribeando-Music-and-Dance-Workshops.jpg
END:VEVENT
BEGIN:VEVENT
DTSTART;TZID=America/New_York:20260511T093000
DTEND;TZID=America/New_York:20260511T103000
DTSTAMP:20260419T155724
CREATED:20260407T193218Z
LAST-MODIFIED:20260407T193508Z
UID:10002380-1778491800-1778495400@vancortlandt.org
SUMMARY:Van Cortlandt Nature Group Walk
DESCRIPTION:Take a slow walk in the park and learn about local flora and fauna with naturalist Debbi Dolan. \n\n\n\n\nSpring is off to a glorious beginning. Wildflowers are emerging\, and the warblers are coming in! Tree swallows are visiting the Vault Hill and Tibbett Meadows. Tulip trees and crabapples will be in flower in May along with cherry trees\, dogwoods\, redbud trees. The dawn chorus is well underway\, and birds are busy collecting nesting material. \nRSVP Now. \nTaking precautions against tick bite is recommended – socks over pants\, and you may want to use insect repellent. Check your body for ticks after being outdoors. \nWalk meets in the parking lot of the Riverdale Stables.
URL:https://vancortlandt.org/event/van-cortlandt-nature-group-walk-9/
CATEGORIES:Hikes
ATTACH;FMTTYPE=image/jpeg:https://vancortlandt.org/wp-content/uploads/2026/04/Untitled-840-x-560-px.jpg
END:VEVENT
BEGIN:VEVENT
DTSTART;TZID=America/New_York:20260527T180000
DTEND;TZID=America/New_York:20260527T210000
DTSTAMP:20260419T155724
CREATED:20260306T134434Z
LAST-MODIFIED:20260327T111406Z
UID:10002236-1779904800-1779915600@vancortlandt.org
SUMMARY:Springtime Shindig 2026
DESCRIPTION:Cocktails • Lite Bites • Dessert\nMusic • Picturesque Setting • Raffle\nHONOREES\nBetty Campbell-Adams Award\nChristopher Rizzo of Carter\, Ledyard & Milburn\, LLP\nLyman Casey Spitzer\, Attorney\nNYC Parks current and past leadership\nFor facilitating VCPA’s license agreement with NYC Parks\, recognizing Van Cortlandt Park Alliance as its official partner.  \nCultivating the Bronx Award\nRiverdale Main Streets Alliance\nFor their stalwart support and stewardship of the park. \nVisit our Shindig Page to purchase tickets.
URL:https://vancortlandt.org/event/springtime-shindig-2026/
CATEGORIES:Community
ATTACH;FMTTYPE=image/jpeg:https://vancortlandt.org/wp-content/uploads/2026/03/Shindig.2026_web.jpg
END:VEVENT
BEGIN:VEVENT
DTSTART;TZID=America/New_York:20260530T093000
DTEND;TZID=America/New_York:20260530T103000
DTSTAMP:20260419T155724
CREATED:20260407T194312Z
LAST-MODIFIED:20260407T194312Z
UID:10002381-1780133400-1780137000@vancortlandt.org
SUMMARY:Van Cortlandt Nature Group
DESCRIPTION:Take a slow walk in the park and learn about local flora and fauna with naturalist Debbi Dolan. \n\n\n\n\nSpring is off to a glorious beginning. Wildflowers are emerging\, and the warblers are coming in! Tree swallows are visiting the Vault Hill and Tibbett Meadows. Tulip trees and crabapples will be in flower in May along with cherry trees\, dogwoods\, redbud trees. The dawn chorus is well underway\, and birds are busy collecting nesting material. \nRSVP Now. \nTaking precautions against tick bite is recommended – socks over pants\, and you may want to use insect repellent. Check your body for ticks after being outdoors. \nWalk meets in front of the Nature Center.
URL:https://vancortlandt.org/event/van-cortlandt-nature-group/
CATEGORIES:Community
ATTACH;FMTTYPE=image/jpeg:https://vancortlandt.org/wp-content/uploads/2026/04/Untitled-840-x-560-px.jpg
END:VEVENT
END:VCALENDAR