BEGIN:VCALENDAR
VERSION:2.0
PRODID:-//Van Cortlandt Park Alliance - ECPv6.15.20//NONSGML v1.0//EN
CALSCALE:GREGORIAN
METHOD:PUBLISH
X-ORIGINAL-URL:https://vancortlandt.org
X-WR-CALDESC:Events for Van Cortlandt Park Alliance
REFRESH-INTERVAL;VALUE=DURATION:PT1H
X-Robots-Tag:noindex
X-PUBLISHED-TTL:PT1H
BEGIN:VTIMEZONE
TZID:America/New_York
BEGIN:DAYLIGHT
TZOFFSETFROM:-0500
TZOFFSETTO:-0400
TZNAME:EDT
DTSTART:20230312T070000
END:DAYLIGHT
BEGIN:STANDARD
TZOFFSETFROM:-0400
TZOFFSETTO:-0500
TZNAME:EST
DTSTART:20231105T060000
END:STANDARD
BEGIN:DAYLIGHT
TZOFFSETFROM:-0500
TZOFFSETTO:-0400
TZNAME:EDT
DTSTART:20240310T070000
END:DAYLIGHT
BEGIN:STANDARD
TZOFFSETFROM:-0400
TZOFFSETTO:-0500
TZNAME:EST
DTSTART:20241103T060000
END:STANDARD
BEGIN:DAYLIGHT
TZOFFSETFROM:-0500
TZOFFSETTO:-0400
TZNAME:EDT
DTSTART:20250309T070000
END:DAYLIGHT
BEGIN:STANDARD
TZOFFSETFROM:-0400
TZOFFSETTO:-0500
TZNAME:EST
DTSTART:20251102T060000
END:STANDARD
END:VTIMEZONE
BEGIN:VEVENT
DTSTART;TZID=America/New_York:20240628T090000
DTEND;TZID=America/New_York:20240628T120000
DTSTAMP:20260421T080831
CREATED:20240530T211340Z
LAST-MODIFIED:20240620T210416Z
UID:10000807-1719565200-1719576000@vancortlandt.org
SUMMARY:Forest Fridays
DESCRIPTION:Please note: Due to extreme heat we are canceling the 6/21 Forest Friday session. \nJoin us at Van Cortlandt Park for a meaningful morning of forest restoration! Experience the last weeks of spring in the forest by helping us remove invasive species like multi-flora rose and bittersweet. Gear up for some hands-on conservation work and learn about the forest’s ecosystem. \nWhen & Where: \n\nDates: June 7th\, 14th and 28th\nTime: 9 AM – Noon\nLocation: VCPA Garden Education and Compost Site\, across from Riverdale Stables\n\nActivities Include: \n\nInvasive species removal\nEducational insights on forest health\nCommunity engagement\n\nWhat to Bring: \n\nSturdy shoes and protective clothing\nWater/tea and snacks\nSunscreen and bug spray\n\nWe Provide: \n\nTools and gloves\nGuidance and support\n\nGet Involved:\nReady to make a difference? Grab your gloves and join us in preserving the beauty of Van Cortlandt Park.\nQuestions? Contact noel@vancortlandt.org. \nRSVP Now. \nPlease be prompt\, as we leave the meeting spot by 9:10-9:15am in order to get to our work site. \n(Plans may change according to the needs of the park\, especially in response to storm damage.)
URL:https://vancortlandt.org/event/forest-fridays-4/2024-06-28/
CATEGORIES:Volunteer
ATTACH;FMTTYPE=image/jpeg:https://vancortlandt.org/wp-content/uploads/2024/05/Forest-Fridays.jpg
END:VEVENT
END:VCALENDAR