BEGIN:VCALENDAR
VERSION:2.0
PRODID:-//Van Cortlandt Park Alliance - ECPv6.15.20//NONSGML v1.0//EN
CALSCALE:GREGORIAN
METHOD:PUBLISH
X-ORIGINAL-URL:https://vancortlandt.org
X-WR-CALDESC:Events for Van Cortlandt Park Alliance
REFRESH-INTERVAL;VALUE=DURATION:PT1H
X-Robots-Tag:noindex
X-PUBLISHED-TTL:PT1H
BEGIN:VTIMEZONE
TZID:America/New_York
BEGIN:DAYLIGHT
TZOFFSETFROM:-0500
TZOFFSETTO:-0400
TZNAME:EDT
DTSTART:20240310T070000
END:DAYLIGHT
BEGIN:STANDARD
TZOFFSETFROM:-0400
TZOFFSETTO:-0500
TZNAME:EST
DTSTART:20241103T060000
END:STANDARD
BEGIN:DAYLIGHT
TZOFFSETFROM:-0500
TZOFFSETTO:-0400
TZNAME:EDT
DTSTART:20250309T070000
END:DAYLIGHT
BEGIN:STANDARD
TZOFFSETFROM:-0400
TZOFFSETTO:-0500
TZNAME:EST
DTSTART:20251102T060000
END:STANDARD
BEGIN:DAYLIGHT
TZOFFSETFROM:-0500
TZOFFSETTO:-0400
TZNAME:EDT
DTSTART:20260308T070000
END:DAYLIGHT
BEGIN:STANDARD
TZOFFSETFROM:-0400
TZOFFSETTO:-0500
TZNAME:EST
DTSTART:20261101T060000
END:STANDARD
BEGIN:DAYLIGHT
TZOFFSETFROM:-0500
TZOFFSETTO:-0400
TZNAME:EDT
DTSTART:20270314T070000
END:DAYLIGHT
BEGIN:STANDARD
TZOFFSETFROM:-0400
TZOFFSETTO:-0500
TZNAME:EST
DTSTART:20271107T060000
END:STANDARD
END:VTIMEZONE
BEGIN:VEVENT
DTSTART;TZID=America/New_York:20251029T130000
DTEND;TZID=America/New_York:20251029T160000
DTSTAMP:20260423T150719
CREATED:20251022T165105Z
LAST-MODIFIED:20251023T193553Z
UID:10002008-1761742800-1761753600@vancortlandt.org
SUMMARY:Memorial Grove Clean Up for Veterans Day
DESCRIPTION:Join us in honoring our veterans by cleaning up Memorial Grove in Van Cortlandt Park. We’re hosting two volunteer events to ensure the grove is beautifully prepared for Veterans Day celebrations. This is a wonderful opportunity to give back to the community\, enjoy the outdoors\, and connect with fellow volunteers. \nActivities: \n\nRaking Leaves: Gather and rake leaves to keep the grove tidy.\nPicking Up Sticks: Collect sticks and debris to keep a clean environment.\nGeneral Upkeep: Assist with trimming and trash collection.\n\nWhat We Provide: \nWhy Volunteer? \n\n Honor Veterans: Contribute to a meaningful cause that honors our heroes.\n Community Engagement: Meet and work alongside like-minded individuals.\nEnjoy the Outdoors: Spend a rewarding day in the beautiful Van Cortlandt Park.\nMake a Difference: Help create a welcoming and respectful space for Veterans Day.\n\nRSVP Now \nRecurring Annual Event: We plan to host this event every October\, ensuring Memorial Grove remains a pristine and respectful space for Veterans Day each year. By joining us this year\, you become part of a lasting tradition of community support and remembrance. \n  \nJoin us in making Memorial Grove a beautiful tribute to our veterans. Your time and effort can make a significant impact!
URL:https://vancortlandt.org/event/memorial-grove-cleanup-for-veterans-day-2/
CATEGORIES:Volunteer
ATTACH;FMTTYPE=image/jpeg:https://vancortlandt.org/wp-content/uploads/2025/10/Untitled-design-60.jpg
END:VEVENT
BEGIN:VEVENT
DTSTART;TZID=America/New_York:20251101T100000
DTEND;TZID=America/New_York:20251101T130000
DTSTAMP:20260423T150719
CREATED:20251022T165344Z
LAST-MODIFIED:20251023T193648Z
UID:10002009-1761991200-1762002000@vancortlandt.org
SUMMARY:Memorial Grove Clean Up for Veterans Day
DESCRIPTION:Join us in honoring our veterans by cleaning up Memorial Grove in Van Cortlandt Park. We’re hosting two volunteer events to ensure the grove is beautifully prepared for Veterans Day celebrations. This is a wonderful opportunity to give back to the community\, enjoy the outdoors\, and connect with fellow volunteers. \nActivities: \n\nRaking Leaves: Gather and rake leaves to keep the grove tidy.\nPicking Up Sticks: Collect sticks and debris to keep a clean environment.\nGeneral Upkeep: Assist with trimming and trash collection.\n\nWhat We Provide: \nWhy Volunteer? \n\n Honor Veterans: Contribute to a meaningful cause that honors our heroes.\n Community Engagement: Meet and work alongside like-minded individuals.\nEnjoy the Outdoors: Spend a rewarding day in the beautiful Van Cortlandt Park.\nMake a Difference: Help create a welcoming and respectful space for Veterans Day.\n\nRSVP Now \nRecurring Annual Event: We plan to host this event every October\, ensuring Memorial Grove remains a pristine and respectful space for Veterans Day each year. By joining us this year\, you become part of a lasting tradition of community support and remembrance. \n  \nJoin us in making Memorial Grove a beautiful tribute to our veterans. Your time and effort can make a significant impact!
URL:https://vancortlandt.org/event/memorial-grove-cleanup-for-veterans-day-3/
CATEGORIES:Volunteer
ATTACH;FMTTYPE=image/jpeg:https://vancortlandt.org/wp-content/uploads/2025/10/Untitled-design-60.jpg
END:VEVENT
BEGIN:VEVENT
DTSTART;TZID=America/New_York:20251105T090000
DTEND;TZID=America/New_York:20251105T120000
DTSTAMP:20260423T150719
CREATED:20251028T163052Z
LAST-MODIFIED:20251028T205732Z
UID:10002014-1762333200-1762344000@vancortlandt.org
SUMMARY:Woodlawn Wednesdays
DESCRIPTION:Help restore the beautiful woodlands of Van Cortlandt Park’s east side! Join us for Woodlawn Wednesdays\, where volunteers like you play a vital role in preserving this important urban ecosystem. \nYou might: \nRemove Invasive Species: Tackle harmful plants like multiflora rose\, bush honeysuckle\, bittersweet\, and Japanese angelica tree that threaten our native biodiversity. \nMaintain Trails: Keep paths clear\, safe\, and welcoming for all park visitors. \nNo experience needed! We provide all tools and gloves. You’ll also learn about forest ecology\, plant ID\, and restoration techniques. \nRSVP Now. \nWhen: \nWednesday November 5\, 2025 meeting at 9am and Wednesdays December 10 and 17 meeting at 10am \nWhere: \nMeet outside the handball courts at Woodlawn Playground \n(Located on the east side of Van Cortlandt Park) \nWhat to Bring: \nLong sleeves\, long pants (denim or canvas recommended)\, and a hat \nSturdy\, closed-toe shoes \nWater bottle and snacks \nSunscreen and bug spray (recommended) \nYour enthusiasm for conservation! \nGroups of 6 or more must email noel@vancortlandt.org to discuss scheduling their own event. \nVolunteer Policy for Minors \n• Ages 15 – 17 \nA parent or guardian must sign and submit a volunteer waiver. Once the waiver is on file\, the minor may participate without an accompanying adult. \n• Ages 12 – 14 \nA parent or guardian must accompany the minor and remain on-site for the entire project. \n• Under 12 \nChildren may volunteer only at events specifically labeled family-friendly and must be accompanied by a parent or guardian at all times.
URL:https://vancortlandt.org/event/woodlawn-wednesdays-6/2025-11-05/
CATEGORIES:Volunteer
ATTACH;FMTTYPE=image/jpeg:https://vancortlandt.org/wp-content/uploads/2025/10/forest-1.jpg
END:VEVENT
BEGIN:VEVENT
DTSTART;TZID=America/New_York:20251114T100000
DTEND;TZID=America/New_York:20251114T130000
DTSTAMP:20260423T150719
CREATED:20251028T161523Z
LAST-MODIFIED:20251218T204413Z
UID:10002084-1763114400-1763125200@vancortlandt.org
SUMMARY:Forest Fridays
DESCRIPTION:Please note: Forest Friday on December 19th\, 2025 has been canceled due to high winds. \nRemove invasive species from the Northwest Forest. Promote biodiversity\, protect young trees\, and maintain trails. \nWhen: Fridays November 14 and 21 meeting at 9am and Fridays December 5\, 12 and 19 meeting at 10am \nWhere: Van Cortlandt Park – VCPA Learning Garden (across from the Riverdale Stables) \nWhat to bring: Long pants\, closed-toe shoes\, water \nNo experience needed – we provide tools\, gloves\, and teach forest ecology as we work. \nAges 15+ welcome. \nMinors must have parents sign a volunteer waiver. \nRSVP Now. \nLimited to 30 volunteers. Groups of 6+ email noel@vancortlandt.org
URL:https://vancortlandt.org/event/forest-fridays-15/2025-11-14/
CATEGORIES:Volunteer
ATTACH;FMTTYPE=image/jpeg:https://vancortlandt.org/wp-content/uploads/2025/10/forest.jpg
END:VEVENT
BEGIN:VEVENT
DTSTART;TZID=America/New_York:20260213T100000
DTEND;TZID=America/New_York:20260213T130000
DTSTAMP:20260423T150719
CREATED:20260128T212031Z
LAST-MODIFIED:20260128T212031Z
UID:10002160-1770976800-1770987600@vancortlandt.org
SUMMARY:Forest Fridays
DESCRIPTION:Winter is the most critical time to save the forest floor! Join us to remove invasive Bush Honeysuckle\, Multiflora Rose\, and other invasive shrubs while the native plants are dormant. \nBy clearing these shrubs now\, we immediately flood the forest floor with winter sunlight and remove the chemical barriers that stop our native trees from growing. Your hard work this February directly prepares the soil for the return of spring wildflowers and oak seedlings. \nMeeting at the southern end of the Van Cortlandt Golf House. \nRSVP Now.
URL:https://vancortlandt.org/event/forest-fridays-17/2026-02-13/
CATEGORIES:Volunteer
ATTACH;FMTTYPE=image/jpeg:https://vancortlandt.org/wp-content/uploads/2025/10/forest.jpg
END:VEVENT
BEGIN:VEVENT
DTSTART;TZID=America/New_York:20260306T090000
DTEND;TZID=America/New_York:20260306T120000
DTSTAMP:20260423T150719
CREATED:20260301T213408Z
LAST-MODIFIED:20260301T213408Z
UID:10002226-1772787600-1772798400@vancortlandt.org
SUMMARY:Forest Fridays
DESCRIPTION:Winter is the most critical time to save the forest floor! Join us to remove invasive Bush Honeysuckle\, Multiflora Rose\, and other invasive shrubs while the native plants are dormant. \nBy clearing these shrubs now\, we immediately flood the forest floor with winter sunlight and remove the chemical barriers that stop our native trees from growing. Your hard work this March directly prepares the soil for the return of spring wildflowers and oak seedlings. \nMeeting at the Van Cortlandt Golf House. \nRSVP Now.
URL:https://vancortlandt.org/event/forest-fridays-16/2026-03-06/
CATEGORIES:Volunteer
ATTACH;FMTTYPE=image/jpeg:https://vancortlandt.org/wp-content/uploads/2025/10/forest.jpg
END:VEVENT
BEGIN:VEVENT
DTSTART;TZID=America/New_York:20260328T100000
DTEND;TZID=America/New_York:20260328T130000
DTSTAMP:20260423T150719
CREATED:20260301T214006Z
LAST-MODIFIED:20260301T214830Z
UID:10002230-1774692000-1774702800@vancortlandt.org
SUMMARY:Saturday Stewardship Event
DESCRIPTION:Winter is the most critical time to save the forest floor! Join us to remove invasive Bush Honeysuckle\, Multiflora Rose\, and other invasive shrubs while the native plants are dormant. \nBy clearing these shrubs now\, we immediately flood the forest floor with winter sunlight and remove the chemical barriers that stop our native trees from growing. Your hard work this March directly prepares the soil for the return of spring wildflowers and oak seedlings. \nMeeting at the Van Cortlandt Golf House. \nRSVP Now.
URL:https://vancortlandt.org/event/forest-restoration-volunteer-event-2/
CATEGORIES:Volunteer
ATTACH;FMTTYPE=image/jpeg:https://vancortlandt.org/wp-content/uploads/2025/10/forest.jpg
END:VEVENT
BEGIN:VEVENT
DTSTART;TZID=America/New_York:20260401T090000
DTEND;TZID=America/New_York:20260401T120000
DTSTAMP:20260423T150719
CREATED:20260323T203832Z
LAST-MODIFIED:20260323T203832Z
UID:10002241-1775034000-1775044800@vancortlandt.org
SUMMARY:Woodlawn Wednesday
DESCRIPTION:Help restore the beautiful woodlands of Van Cortlandt Park’s east side! Join us for Woodlawn Wednesdays\, where volunteers like you play a vital role in preserving this important urban ecosystem. \nYou might: \nRemove Invasive Species: Tackle harmful plants like multiflora rose\, bush honeysuckle\, bittersweet\, and Japanese angelica tree that threaten our native biodiversity. \nMaintain Trails: Keep paths clear\, safe\, and welcoming for all park visitors. \nNo experience needed! We provide all tools and gloves. You’ll also learn about forest ecology\, plant ID\, and restoration techniques. \nWhere: \nMeet outside the handball courts at Woodlawn Playground \n(Located on the east side of Van Cortlandt Park) \nRSVP Now.
URL:https://vancortlandt.org/event/woodlawn-wednesday/2026-04-01/
CATEGORIES:Volunteer
ATTACH;FMTTYPE=image/jpeg:https://vancortlandt.org/wp-content/uploads/2026/03/IMG_6617.jpeg
END:VEVENT
BEGIN:VEVENT
DTSTART;TZID=America/New_York:20260402T090000
DTEND;TZID=America/New_York:20260402T120000
DTSTAMP:20260423T150719
CREATED:20260323T205307Z
LAST-MODIFIED:20260323T205522Z
UID:10002304-1775120400-1775131200@vancortlandt.org
SUMMARY:Trail Work Thursdays
DESCRIPTION:Help Maintain the Trails that Keep the Park Connected\n\n\n\n\n\nBe a part of the community effort to maintain the trails in Van Cortlandt Park. Whether you’re an experienced trailblazer or new to trail maintenance\, your help will make a significant impact! \nWhat We’ll Be Doing: \nLearn how to plan and assess site to install a puncheon. \nClearing debris and overgrowth \nEnsuring trail safety and accessibility \nTrail structure installation \n\n\nMeeting Location: Southern end of Van Cortlandt Park Golf House\n\n\n\nRSVP Now.
URL:https://vancortlandt.org/event/trail-work-thursdays-6/2026-04-02/
CATEGORIES:Volunteer
ATTACH;FMTTYPE=image/jpeg:https://vancortlandt.org/wp-content/uploads/2026/03/IMG_6603.jpeg
END:VEVENT
BEGIN:VEVENT
DTSTART;TZID=America/New_York:20260403T090000
DTEND;TZID=America/New_York:20260403T120000
DTSTAMP:20260423T150719
CREATED:20260323T210050Z
LAST-MODIFIED:20260323T210050Z
UID:10002361-1775206800-1775217600@vancortlandt.org
SUMMARY:Forest Fridays
DESCRIPTION:Volunteers will assist with forest restoration work\, including invasive species removal\, planting\, compost management\, and general site maintenance. \nVolunteers should wear long sleeves and pants\, bring water and snacks\, and be prepared for physical work. No prior experience required\, but enthusiasm for environmental conservation is a plus. \nFor April\, Forest Fridays will meet at VCPA’s Learning Garden near the Riverdale Stables. \nNote: There is no session on 4/24/26. \nRSVP Now.
URL:https://vancortlandt.org/event/forest-fridays-18/2026-04-03/
CATEGORIES:Volunteer
ATTACH;FMTTYPE=image/png:https://vancortlandt.org/wp-content/uploads/2025/04/Untitled-design-30.png
END:VEVENT
BEGIN:VEVENT
DTSTART;TZID=America/New_York:20260411T100000
DTEND;TZID=America/New_York:20260411T120000
DTSTAMP:20260423T150719
CREATED:20260315T140253Z
LAST-MODIFIED:20260315T140253Z
UID:10002237-1775901600-1775908800@vancortlandt.org
SUMMARY:Pitch in for NYC Parks
DESCRIPTION:Pitch in for NYC Parks Day at Van Cortlandt Park \nVan Cortlandt Park is one of New York City’s largest and most ecologically rich parks\, and keeping it clean takes community effort. \nJoin Van Cortlandt Park Alliance for our annual Pitch in for NYC Parks Day event\, a morning of hands-on park stewardship near Caryl Field along the park’s northern edge by the Yonkers border. Volunteers will collect litter and debris from park paths\, natural areas\, and surrounding green spaces\, making a direct and visible difference in the park. \nNo experience is required. Gloves\, bags\, and all equipment will be provided. Please wear sturdy closed-toe shoes and clothes you do not mind getting dirty\, and bring water. \nSaturday\, April 11\, 10am to 12pm at Caryl Field. \nRSVP Now
URL:https://vancortlandt.org/event/pitch-in-for-nyc-parks/
CATEGORIES:Volunteer
ATTACH;FMTTYPE=image/jpeg:https://vancortlandt.org/wp-content/uploads/2026/03/Untitled-design-12.jpg
END:VEVENT
BEGIN:VEVENT
DTSTART;TZID=America/New_York:20260414T100000
DTEND;TZID=America/New_York:20260414T130000
DTSTAMP:20260423T150719
CREATED:20260324T224518Z
LAST-MODIFIED:20260324T224518Z
UID:10002371-1776160800-1776171600@vancortlandt.org
SUMMARY:Tune-up Tuesdays
DESCRIPTION:Turnip to volunteer and help us take care of our Learning Garden! \nVolunteers will help care for our garden\, maintain compost bins\, weed\, water\, and harvest produce. \nNo gardening experience needed – just show up in clothing you will be comfortable getting dirty in! \nLocation: The VCPA Learning Garden is located near the Mosholu Avenue and Broadway entrance of the park (past the Northwest playground). \nHeld on the following Tuesdays from 10am to 1pm: \n\nApril 14\nApril 28\nMay 26\nJune 9\nJune 23\n\nVolunteers must be 18 and older. \nRSVP Now. \nGroups of 5+ must register as a unit via email to gardening@vancortlandt.org.
URL:https://vancortlandt.org/event/tune-up-tuesdays-2/2026-04-14/
CATEGORIES:Volunteer
ATTACH;FMTTYPE=image/jpeg:https://vancortlandt.org/wp-content/uploads/2026/03/Untitled-design-6.jpg
END:VEVENT
BEGIN:VEVENT
DTSTART;TZID=America/New_York:20260426T100000
DTEND;TZID=America/New_York:20260426T130000
DTSTAMP:20260423T150719
CREATED:20260323T204448Z
LAST-MODIFIED:20260323T204553Z
UID:10002246-1777197600-1777208400@vancortlandt.org
SUMMARY:Sunday Stewardship
DESCRIPTION:Join Van Cortlandt Park Alliance for Sunday Stewardship — hands-on ecological restoration in Van Cortlandt Park. No experience necessary. Tools\, gloves\, and guidance provided. \nThis will be City Nature Challenge weekend!  Celebrate by helping with garlic mustard removal and iNaturalist species mapping.\nBring your phone and a water bottle. \nMeeting at the southern end of the Van Cortlandt Golf House. \nRSVP Now.
URL:https://vancortlandt.org/event/sunday-stewardship/
CATEGORIES:Volunteer
ATTACH;FMTTYPE=image/jpeg:https://vancortlandt.org/wp-content/uploads/2025/05/Untitled-design-40.jpg
END:VEVENT
BEGIN:VEVENT
DTSTART;TZID=America/New_York:20260502T100000
DTEND;TZID=America/New_York:20260502T130000
DTSTAMP:20260423T150719
CREATED:20260422T235653Z
LAST-MODIFIED:20260422T235653Z
UID:10002569-1777716000-1777726800@vancortlandt.org
SUMMARY:Cross Country Volunteer Days
DESCRIPTION:Be a part of the community effort to maintain the historic Course Country Trail in Van Cortlandt Park \n\n\n\n\nWhether you’re an experienced trailblazer or new to trail maintenance\, your help will make a significant impact! \nEvent Dates and Times:\nSaturdays May 2 and June 6 from 10am to 1pm.* \nMeeting Location:\nVCPA Learning Garden \n\nRSVP Now. \n\n*Please note that for groups of 10 or more only. Please email garcialeslie@vancortlandt.org to schedule a group.
URL:https://vancortlandt.org/event/cross-country-volunteer-days/2026-05-02/
CATEGORIES:Volunteer
ATTACH;FMTTYPE=image/png:https://vancortlandt.org/wp-content/uploads/2024/07/Untitled-design-5-1.png
END:VEVENT
BEGIN:VEVENT
DTSTART;TZID=America/New_York:20260507T090000
DTEND;TZID=America/New_York:20260507T120000
DTSTAMP:20260423T150719
CREATED:20260422T234626Z
LAST-MODIFIED:20260422T234626Z
UID:10002565-1778144400-1778155200@vancortlandt.org
SUMMARY:Trail Work Thursdays
DESCRIPTION:Be a part of the community effort to maintain the trails in Van Cortlandt Park. \n\n\n\n\nUpcoming Activities Include: \n\nClearing debris and overgrowth\nEnsuring trail safety and accessibility\nMaintenance on structures that mitigate erosion and improve access.\n\nWhat to Bring: \n\nComfortable\, weather-appropriate clothing\nClosed-toed shoes\nWater and a snack\n\nMeeting Details: \nLocation: VCPA Learning Garden \nTime: 9 am sharp; work begins at 9:15 am \nRSVP Now
URL:https://vancortlandt.org/event/trail-work-thursdays-7/2026-05-07/
CATEGORIES:Volunteer
ATTACH;FMTTYPE=image/jpeg:https://vancortlandt.org/wp-content/uploads/2025/07/Trail-Thursdays-photo.jpg
END:VEVENT
END:VCALENDAR