BEGIN:VCALENDAR
VERSION:2.0
PRODID:-//Van Cortlandt Park Alliance - ECPv6.15.20//NONSGML v1.0//EN
CALSCALE:GREGORIAN
METHOD:PUBLISH
X-ORIGINAL-URL:https://vancortlandt.org
X-WR-CALDESC:Events for Van Cortlandt Park Alliance
REFRESH-INTERVAL;VALUE=DURATION:PT1H
X-Robots-Tag:noindex
X-PUBLISHED-TTL:PT1H
BEGIN:VTIMEZONE
TZID:America/New_York
BEGIN:DAYLIGHT
TZOFFSETFROM:-0500
TZOFFSETTO:-0400
TZNAME:EDT
DTSTART:20250309T070000
END:DAYLIGHT
BEGIN:STANDARD
TZOFFSETFROM:-0400
TZOFFSETTO:-0500
TZNAME:EST
DTSTART:20251102T060000
END:STANDARD
BEGIN:DAYLIGHT
TZOFFSETFROM:-0500
TZOFFSETTO:-0400
TZNAME:EDT
DTSTART:20260308T070000
END:DAYLIGHT
BEGIN:STANDARD
TZOFFSETFROM:-0400
TZOFFSETTO:-0500
TZNAME:EST
DTSTART:20261101T060000
END:STANDARD
BEGIN:DAYLIGHT
TZOFFSETFROM:-0500
TZOFFSETTO:-0400
TZNAME:EDT
DTSTART:20270314T070000
END:DAYLIGHT
BEGIN:STANDARD
TZOFFSETFROM:-0400
TZOFFSETTO:-0500
TZNAME:EST
DTSTART:20271107T060000
END:STANDARD
END:VTIMEZONE
BEGIN:VEVENT
DTSTART;TZID=America/New_York:20260430T090000
DTEND;TZID=America/New_York:20260430T120000
DTSTAMP:20260425T082415
CREATED:20260323T205307Z
LAST-MODIFIED:20260323T205522Z
UID:10002308-1777539600-1777550400@vancortlandt.org
SUMMARY:Trail Work Thursdays
DESCRIPTION:Help Maintain the Trails that Keep the Park Connected\n\n\n\n\n\nBe a part of the community effort to maintain the trails in Van Cortlandt Park. Whether you’re an experienced trailblazer or new to trail maintenance\, your help will make a significant impact! \nWhat We’ll Be Doing: \nLearn how to plan and assess site to install a puncheon. \nClearing debris and overgrowth \nEnsuring trail safety and accessibility \nTrail structure installation \n\n\nMeeting Location: Southern end of Van Cortlandt Park Golf House\n\n\n\nRSVP Now.
URL:https://vancortlandt.org/event/trail-work-thursdays-6/2026-04-30/
CATEGORIES:Volunteer
ATTACH;FMTTYPE=image/jpeg:https://vancortlandt.org/wp-content/uploads/2026/03/IMG_6603.jpeg
END:VEVENT
BEGIN:VEVENT
DTSTART;TZID=America/New_York:20260430T170000
DTEND;TZID=America/New_York:20260430T180000
DTSTAMP:20260425T082415
CREATED:20260226T210516Z
LAST-MODIFIED:20260226T210738Z
UID:10002176-1777568400-1777572000@vancortlandt.org
SUMMARY:Forests Uptown Series
DESCRIPTION:Thursdays at 5pm\nJoin Riverside Park Conservancy and Van Cortlandt Park Alliance for our hybrid lecture series on our urban forest. All talks are free & open to the public\, including time for a Q&A & discussion.\nMarch 12: Winter Tree Identification\nMarch 19: Forest Assessments in NYC\nMarch 26: History of NYC Wildfires\nRSVP Now
URL:https://vancortlandt.org/event/forests-uptown-series/2026-04-30/
CATEGORIES:Community
ATTACH;FMTTYPE=image/jpeg:https://vancortlandt.org/wp-content/uploads/2026/02/Uptown-Forest-Series.jpg
END:VEVENT
END:VCALENDAR